BEGIN:VCALENDAR
VERSION:2.0
PRODID:-//AIA Virginia - ECPv6.15.12.2//NONSGML v1.0//EN
CALSCALE:GREGORIAN
METHOD:PUBLISH
X-WR-CALNAME:AIA Virginia
X-ORIGINAL-URL:https://www.aiava.org
X-WR-CALDESC:Events for AIA Virginia
REFRESH-INTERVAL;VALUE=DURATION:PT1H
X-Robots-Tag:noindex
X-PUBLISHED-TTL:PT1H
BEGIN:VTIMEZONE
TZID:America/New_York
BEGIN:DAYLIGHT
TZOFFSETFROM:-0500
TZOFFSETTO:-0400
TZNAME:EDT
DTSTART:20220313T070000
END:DAYLIGHT
BEGIN:STANDARD
TZOFFSETFROM:-0400
TZOFFSETTO:-0500
TZNAME:EST
DTSTART:20221106T060000
END:STANDARD
BEGIN:DAYLIGHT
TZOFFSETFROM:-0500
TZOFFSETTO:-0400
TZNAME:EDT
DTSTART:20230312T070000
END:DAYLIGHT
BEGIN:STANDARD
TZOFFSETFROM:-0400
TZOFFSETTO:-0500
TZNAME:EST
DTSTART:20231105T060000
END:STANDARD
BEGIN:DAYLIGHT
TZOFFSETFROM:-0500
TZOFFSETTO:-0400
TZNAME:EDT
DTSTART:20240310T070000
END:DAYLIGHT
BEGIN:STANDARD
TZOFFSETFROM:-0400
TZOFFSETTO:-0500
TZNAME:EST
DTSTART:20241103T060000
END:STANDARD
END:VTIMEZONE
BEGIN:VEVENT
DTSTART;TZID=America/New_York:20230208T120000
DTEND;TZID=America/New_York:20230208T130000
DTSTAMP:20260421T195312
CREATED:20221214T194303Z
LAST-MODIFIED:20230103T203408Z
UID:10018200-1675857600-1675861200@www.aiava.org
SUMMARY:Cultivating A Path To Fellowship
DESCRIPTION:Cultivating Your Path to Fellowship\nReverse Engineering the FAIA Submission Process to Develop Meaning & Purpose in Practice \nFour\, 1-hour sessions starting Wednesday\, January 25th. \n4 AIA LU | Elective \nRegister>> \nToo often AIA members approach achieving Fellowship at the end of a significant phase of their career. The result is the demographic composition of the College of Fellows remains predominantly older\, white males. These sessions seek to elevate diversity in the College’s ranks by teaching young and mid-career architects to reverse engineer their path to Fellowship using the AIA’s Sample Application\, a specialized outline\, storytelling techniques\, and writing basics to define and amplify their voices and accomplishments. This method advances meaning and intention in attendees’ career paths and\, ultimately\, will bring younger and more diverse professionals to advancing the mission and leadership of the College of Fellows and its grant funding activities. \nMapping a career around AIA Fellowship provides a path to positively impact others and elevate the value\, potential and reach of the many career paths architects take. Attendees will gain inspiration on finding time for introspection\, planning and preparation to explore\, define and elevate meaning in practice. \nLearning Objectives \n\nGain detailed understanding of AIA Fellowship & the process of submission.\nLearn about the value of AIA Fellowship for the advancement of individuals and their work.\nAcquire skills to develop storylines and narratives to capture career milestones and projects.\nTake-away resources on story structure and guidelines for better professional writing
URL:https://www.aiava.org/event/cultivating-a-path-to-fellowship/2023-02-08/
LOCATION:Zoom Virtual Meeting
CATEGORIES:Membership
ORGANIZER;CN="AIA Virginia":MAILTO:info@aiava.org
END:VEVENT
END:VCALENDAR