BEGIN:VCALENDAR
VERSION:2.0
PRODID:-//AIA Virginia - ECPv6.15.12.2//NONSGML v1.0//EN
CALSCALE:GREGORIAN
METHOD:PUBLISH
X-WR-CALNAME:AIA Virginia
X-ORIGINAL-URL:https://www.aiava.org
X-WR-CALDESC:Events for AIA Virginia
REFRESH-INTERVAL;VALUE=DURATION:PT1H
X-Robots-Tag:noindex
X-PUBLISHED-TTL:PT1H
BEGIN:VTIMEZONE
TZID:America/New_York
BEGIN:DAYLIGHT
TZOFFSETFROM:-0500
TZOFFSETTO:-0400
TZNAME:EDT
DTSTART:20210314T070000
END:DAYLIGHT
BEGIN:STANDARD
TZOFFSETFROM:-0400
TZOFFSETTO:-0500
TZNAME:EST
DTSTART:20211107T060000
END:STANDARD
BEGIN:DAYLIGHT
TZOFFSETFROM:-0500
TZOFFSETTO:-0400
TZNAME:EDT
DTSTART:20220313T070000
END:DAYLIGHT
BEGIN:STANDARD
TZOFFSETFROM:-0400
TZOFFSETTO:-0500
TZNAME:EST
DTSTART:20221106T060000
END:STANDARD
BEGIN:DAYLIGHT
TZOFFSETFROM:-0500
TZOFFSETTO:-0400
TZNAME:EDT
DTSTART:20230312T070000
END:DAYLIGHT
BEGIN:STANDARD
TZOFFSETFROM:-0400
TZOFFSETTO:-0500
TZNAME:EST
DTSTART:20231105T060000
END:STANDARD
END:VTIMEZONE
BEGIN:VEVENT
DTSTART;TZID=America/New_York:20221211T120000
DTEND;TZID=America/New_York:20221211T130000
DTSTAMP:20260421T085548
CREATED:20221108T202036Z
LAST-MODIFIED:20221114T213909Z
UID:10018209-1670760000-1670763600@www.aiava.org
SUMMARY:Procrastinators Series
DESCRIPTION:Join AIAVA for our Procrastinator series – a series of Lunch and Learn sessions for those of us who couldn’t get around to it before now. These sessions are for you if you happen to be running behind on your learning units for the year or waiting till the last minute. \nBecause we get it. \n  \nWe hope you’ll join us below: \nProcrastinator Series
URL:https://www.aiava.org/event/procrastinators-series/2022-12-11/
ATTACH;FMTTYPE=image/png:https://www.aiava.org/wp-content/uploads/2022/11/Procrastinator-Series-1.png
END:VEVENT
BEGIN:VEVENT
DTSTART;TZID=America/New_York:20221212T120000
DTEND;TZID=America/New_York:20221212T130000
DTSTAMP:20260421T085548
CREATED:20221108T202036Z
LAST-MODIFIED:20221114T213909Z
UID:10018210-1670846400-1670850000@www.aiava.org
SUMMARY:Procrastinators Series
DESCRIPTION:Join AIAVA for our Procrastinator series – a series of Lunch and Learn sessions for those of us who couldn’t get around to it before now. These sessions are for you if you happen to be running behind on your learning units for the year or waiting till the last minute. \nBecause we get it. \n  \nWe hope you’ll join us below: \nProcrastinator Series
URL:https://www.aiava.org/event/procrastinators-series/2022-12-12/
ATTACH;FMTTYPE=image/png:https://www.aiava.org/wp-content/uploads/2022/11/Procrastinator-Series-1.png
END:VEVENT
BEGIN:VEVENT
DTSTART;TZID=America/New_York:20221213T120000
DTEND;TZID=America/New_York:20221213T130000
DTSTAMP:20260421T085548
CREATED:20221108T202036Z
LAST-MODIFIED:20221114T213909Z
UID:10018211-1670932800-1670936400@www.aiava.org
SUMMARY:Procrastinators Series
DESCRIPTION:Join AIAVA for our Procrastinator series – a series of Lunch and Learn sessions for those of us who couldn’t get around to it before now. These sessions are for you if you happen to be running behind on your learning units for the year or waiting till the last minute. \nBecause we get it. \n  \nWe hope you’ll join us below: \nProcrastinator Series
URL:https://www.aiava.org/event/procrastinators-series/2022-12-13/
ATTACH;FMTTYPE=image/png:https://www.aiava.org/wp-content/uploads/2022/11/Procrastinator-Series-1.png
END:VEVENT
BEGIN:VEVENT
DTSTART;TZID=America/New_York:20221213T173000
DTEND;TZID=America/New_York:20221213T190000
DTSTAMP:20260421T085548
CREATED:20221118T154519Z
LAST-MODIFIED:20221213T210545Z
UID:10018202-1670952600-1670958000@www.aiava.org
SUMMARY:HRC Trivia Mixer
DESCRIPTION:Join AIA Virginia’s Historic Resources Committee for our second annual Virtual Trivia Mixer! \nMix up a cocktail (or mocktail) and join us for a night of trivia and fun. Connect with the preservation community in Virginia and test your knowledge of the built environment. Win prizes and glory. \nEarn 1.0 AIA LU | Elective \nRegister online. \nClassic Cocktail Recipe \nNegroni \nA popular and classic cocktail. \n¾ oz Gin\n¾ oz Campari\n¾ ounce Sweet or Dry Vermouth \nFill a rocks or old fashioned glass with ice\nCombine liquids into a mixing glass\nAdd ice and stir until chilled\nStrain into the chilled glass\nAdd an orange slice or orange peel \nAn Old Fashioned Old Fashion \n\ngenerous dash of bitters (Peychaud\, orange\, or both)\none teaspoon simple syrup (best if made with raw or brown sugar\, 1:1 ratio sugar to water)\n2 ounces rye\nClub soda\nMaraschino cherry for garnish\n\n*In an old fashion glass (what else?)\, add a generous dash of bitters and one teaspoon of simple syrup. \n*Add two ounces rye \n*Add club soda to taste (best with small amount of club site\, say two to four ounces) \n*Stir\, add ice \n*Add maraschino cherry for garnish.  (Make it a good cherry.  If it is sold in the grocery store next to the ice cream sprinkles\, that is not your cherry.  Spring for a good jar of  maraschino cherrries.  You won’t regret it)
URL:https://www.aiava.org/event/hrc-trivia-mixer/
LOCATION:Virtual – Online
CATEGORIES:Historic Resources Committee,Social
ATTACH;FMTTYPE=image/png:https://www.aiava.org/wp-content/uploads/2022/11/HRC-400-×-400-px-No-Website.png
END:VEVENT
BEGIN:VEVENT
DTSTART;TZID=America/New_York:20221214T120000
DTEND;TZID=America/New_York:20221214T130000
DTSTAMP:20260421T085548
CREATED:20221108T202036Z
LAST-MODIFIED:20221114T213909Z
UID:10018212-1671019200-1671022800@www.aiava.org
SUMMARY:Procrastinators Series
DESCRIPTION:Join AIAVA for our Procrastinator series – a series of Lunch and Learn sessions for those of us who couldn’t get around to it before now. These sessions are for you if you happen to be running behind on your learning units for the year or waiting till the last minute. \nBecause we get it. \n  \nWe hope you’ll join us below: \nProcrastinator Series
URL:https://www.aiava.org/event/procrastinators-series/2022-12-14/
ATTACH;FMTTYPE=image/png:https://www.aiava.org/wp-content/uploads/2022/11/Procrastinator-Series-1.png
END:VEVENT
BEGIN:VEVENT
DTSTART;TZID=America/New_York:20221215T120000
DTEND;TZID=America/New_York:20221215T130000
DTSTAMP:20260421T085548
CREATED:20221108T202036Z
LAST-MODIFIED:20221114T213909Z
UID:10018213-1671105600-1671109200@www.aiava.org
SUMMARY:Procrastinators Series
DESCRIPTION:Join AIAVA for our Procrastinator series – a series of Lunch and Learn sessions for those of us who couldn’t get around to it before now. These sessions are for you if you happen to be running behind on your learning units for the year or waiting till the last minute. \nBecause we get it. \n  \nWe hope you’ll join us below: \nProcrastinator Series
URL:https://www.aiava.org/event/procrastinators-series/2022-12-15/
ATTACH;FMTTYPE=image/png:https://www.aiava.org/wp-content/uploads/2022/11/Procrastinator-Series-1.png
END:VEVENT
BEGIN:VEVENT
DTSTART;TZID=America/New_York:20221216T120000
DTEND;TZID=America/New_York:20221216T130000
DTSTAMP:20260421T085548
CREATED:20221108T202036Z
LAST-MODIFIED:20221114T213909Z
UID:10018214-1671192000-1671195600@www.aiava.org
SUMMARY:Procrastinators Series
DESCRIPTION:Join AIAVA for our Procrastinator series – a series of Lunch and Learn sessions for those of us who couldn’t get around to it before now. These sessions are for you if you happen to be running behind on your learning units for the year or waiting till the last minute. \nBecause we get it. \n  \nWe hope you’ll join us below: \nProcrastinator Series
URL:https://www.aiava.org/event/procrastinators-series/2022-12-16/
ATTACH;FMTTYPE=image/png:https://www.aiava.org/wp-content/uploads/2022/11/Procrastinator-Series-1.png
END:VEVENT
END:VCALENDAR