BEGIN:VCALENDAR
VERSION:2.0
PRODID:-//AIA Virginia - ECPv6.15.12.2//NONSGML v1.0//EN
CALSCALE:GREGORIAN
METHOD:PUBLISH
X-WR-CALNAME:AIA Virginia
X-ORIGINAL-URL:https://www.aiava.org
X-WR-CALDESC:Events for AIA Virginia
REFRESH-INTERVAL;VALUE=DURATION:PT1H
X-Robots-Tag:noindex
X-PUBLISHED-TTL:PT1H
BEGIN:VTIMEZONE
TZID:America/New_York
BEGIN:DAYLIGHT
TZOFFSETFROM:-0500
TZOFFSETTO:-0400
TZNAME:EDT
DTSTART:20210314T070000
END:DAYLIGHT
BEGIN:STANDARD
TZOFFSETFROM:-0400
TZOFFSETTO:-0500
TZNAME:EST
DTSTART:20211107T060000
END:STANDARD
BEGIN:DAYLIGHT
TZOFFSETFROM:-0500
TZOFFSETTO:-0400
TZNAME:EDT
DTSTART:20220313T070000
END:DAYLIGHT
BEGIN:STANDARD
TZOFFSETFROM:-0400
TZOFFSETTO:-0500
TZNAME:EST
DTSTART:20221106T060000
END:STANDARD
BEGIN:DAYLIGHT
TZOFFSETFROM:-0500
TZOFFSETTO:-0400
TZNAME:EDT
DTSTART:20230312T070000
END:DAYLIGHT
BEGIN:STANDARD
TZOFFSETFROM:-0400
TZOFFSETTO:-0500
TZNAME:EST
DTSTART:20231105T060000
END:STANDARD
END:VTIMEZONE
BEGIN:VEVENT
DTSTART;TZID=America/New_York:20221129T120000
DTEND;TZID=America/New_York:20221129T130000
DTSTAMP:20260421T102039
CREATED:20220826T220532Z
LAST-MODIFIED:20220826T220532Z
UID:10018186-1669723200-1669726800@www.aiava.org
SUMMARY:Interior Non- Load Bearing Partitions
DESCRIPTION:Join us for a lunch and learn program about the evolving steel framing industry! \nLearning Objectives:\n• Understand interior partition framing\n• Describe various types of metal studs\n• Understand installation\n• Explain code compliance of common materials in the marketplace today.\n• Answer Questions \nLesson Agenda:\n1. LEED\n2. Specification\n3. Basic Design Guidelines (Catalog Tables) Methods (Installation)\n4. Uses and Resources\n5. Code Compliance\n6. Answer Questions \nEarn 1.0 AIA LU|HSW \nRegister online. \nPresented in partnership with MarinoWARE
URL:https://www.aiava.org/event/interior-non-load-bearing-partitions/
LOCATION:Virtual – Online
CATEGORIES:Education
ATTACH;FMTTYPE=image/png:https://www.aiava.org/wp-content/uploads/2022/08/MarinoWARE-graphic.png
END:VEVENT
END:VCALENDAR