BEGIN:VCALENDAR
VERSION:2.0
PRODID:-//AIA Virginia - ECPv6.15.12.2//NONSGML v1.0//EN
CALSCALE:GREGORIAN
METHOD:PUBLISH
X-WR-CALNAME:AIA Virginia
X-ORIGINAL-URL:https://www.aiava.org
X-WR-CALDESC:Events for AIA Virginia
REFRESH-INTERVAL;VALUE=DURATION:PT1H
X-Robots-Tag:noindex
X-PUBLISHED-TTL:PT1H
BEGIN:VTIMEZONE
TZID:America/New_York
BEGIN:DAYLIGHT
TZOFFSETFROM:-0500
TZOFFSETTO:-0400
TZNAME:EDT
DTSTART:20180311T070000
END:DAYLIGHT
BEGIN:STANDARD
TZOFFSETFROM:-0400
TZOFFSETTO:-0500
TZNAME:EST
DTSTART:20181104T060000
END:STANDARD
BEGIN:DAYLIGHT
TZOFFSETFROM:-0500
TZOFFSETTO:-0400
TZNAME:EDT
DTSTART:20190310T070000
END:DAYLIGHT
BEGIN:STANDARD
TZOFFSETFROM:-0400
TZOFFSETTO:-0500
TZNAME:EST
DTSTART:20191103T060000
END:STANDARD
BEGIN:DAYLIGHT
TZOFFSETFROM:-0500
TZOFFSETTO:-0400
TZNAME:EDT
DTSTART:20200308T070000
END:DAYLIGHT
BEGIN:STANDARD
TZOFFSETFROM:-0400
TZOFFSETTO:-0500
TZNAME:EST
DTSTART:20201101T060000
END:STANDARD
BEGIN:DAYLIGHT
TZOFFSETFROM:-0500
TZOFFSETTO:-0400
TZNAME:EDT
DTSTART:20210314T070000
END:DAYLIGHT
BEGIN:STANDARD
TZOFFSETFROM:-0400
TZOFFSETTO:-0500
TZNAME:EST
DTSTART:20211107T060000
END:STANDARD
END:VTIMEZONE
BEGIN:VEVENT
DTSTART;TZID=America/New_York:20200110T093000
DTEND;TZID=America/New_York:20200110T173000
DTSTAMP:20260424T032946
CREATED:20200106T212955Z
LAST-MODIFIED:20200106T212955Z
UID:10018043-1578648600-1578677400@www.aiava.org
SUMMARY:Emerging Leaders in Architecture Session #1
DESCRIPTION:Inheritance and Inspiration \nRichmond\, VA \n 
URL:https://www.aiava.org/event/emerging-leaders-in-architecture-session-1/
LOCATION:AIA Virginia\, 2201 W. Broad St.\, Ste. 207\, Richmond\, VA\, 23220\, United States
CATEGORIES:Emerging Leaders
ORGANIZER;CN="AIA Virginia":MAILTO:info@aiava.org
END:VEVENT
BEGIN:VEVENT
DTSTART;TZID=America/New_York:20191113T140000
DTEND;TZID=America/New_York:20191113T160000
DTSTAMP:20260424T032946
CREATED:20191011T192701Z
LAST-MODIFIED:20191011T192701Z
UID:10018041-1573653600-1573660800@www.aiava.org
SUMMARY:ACE Joint Owner Forum: Nov. 13\, 2019
DESCRIPTION:The next ACE Joint Owner Forum will include local government owners from the Southwest Virginia area.  The event will occur on Wednesday\, Nov. 13 in Roanoke.  ACE is a joint venture of the Virginia components of AIA\, ACEC\, and AGC to educate and promote best practices of the design and construction industry. \n  \nLocation: Blue Ridge Hotel and Conference Center \nTime: 2:00 p.m. – 4:00 p.m. for Forum\, 4:00 – 5:00 Networking/Cocktail Reception \nFee: $50 (Members only) \nCEU: 2 LU \nRegister online.
URL:https://www.aiava.org/event/ace-joint-owner-forum-nov-13-2019/
LOCATION:Blue Ridge Hotel and Conference Center\, 2801 Hershberger Rd NW\, Roanoke\, VA\, 24017\, United States
CATEGORIES:Business Development
END:VEVENT
BEGIN:VEVENT
DTSTART;TZID=America/New_York:20191108T183000
DTEND;TZID=America/New_York:20191108T230000
DTSTAMP:20260424T032946
CREATED:20181121T184427Z
LAST-MODIFIED:20181121T184427Z
UID:10018031-1573237800-1573254000@www.aiava.org
SUMMARY:Visions for Architecture
DESCRIPTION:Visions for Architecture\, created in 1998\, is AIA Virginia’s annual Honors and Awards gala. \nVisions celebrates the achievements of those whose work makes especially strong contributions to society and celebrates the recipients of AIA Virginia’s Honors Awards and the Awards for Excellence in Architecture.
URL:https://www.aiava.org/event/visions-for-architecture-3/
CATEGORIES:Awards
ORGANIZER;CN="AIA Virginia":MAILTO:info@aiava.org
END:VEVENT
BEGIN:VEVENT
DTSTART;TZID=America/New_York:20191108T080000
DTEND;TZID=America/New_York:20191108T170000
DTSTAMP:20260424T032946
CREATED:20190808T183000Z
LAST-MODIFIED:20190808T183037Z
UID:10018038-1573200000-1573232400@www.aiava.org
SUMMARY:ELA 2020 Class Nominations Due
DESCRIPTION:Nominations for the 2020 Class of Emerging Leaders in Architecture (ELA) are due by 5 p.m. \nThe application and more information is available here>>
URL:https://www.aiava.org/event/ela-2020-class-nominations-due/
CATEGORIES:Emerging Leaders
END:VEVENT
BEGIN:VEVENT
DTSTART;TZID=America/New_York:20191106T161500
DTEND;TZID=America/New_York:20191106T170000
DTSTAMP:20260424T032946
CREATED:20190926T164356Z
LAST-MODIFIED:20191015T214614Z
UID:10018039-1573056900-1573059600@www.aiava.org
SUMMARY:Annual Membership Meeting
DESCRIPTION:Hear about vital developments with your professional society\, elect officers and conduct other business at the AIA Virginia Annual Meeting of the Membership. The meeting will be held during Architecture Exchange East at the Greater Richmond Convention Center on Wednesday\, Nov. 6th\, 4:15 to 5 p.m. in room B15c. There is no charge to attend the Membership Meeting. This years’ meeting will include a champagne toast to newly licensed architect members! \nAIAVA Annual Meeting Agenda 2019-11-06>>\nMeeting Minutes from June 2019>>\nMeeting Minutes from Nov. 2018>> \nThe 2019 nominating committee has placed the following members in nomination for 2020: \n\nPresident-Elect: Sean Reilly\, AIA (Northern Virginia)\nVP of Government Advocacy*: Kathy Galvin\, AIA (Central Virginia)\nVP of Professional Excellence*: Krystal Anderson\, AIA (Richmond)\nVP of Member Services: Nick Serfass\, FAIA (Richmond)\nVP of Communications and Outreach: Rebecca Edmunds\, AIA (Blue Ridge)\nTreasurer: Mitch Rowland\, AIA (Richmond)\n\nThe following nominee is presented as the 2020 Associate Director: \n\nAssociate Director: Michael Spory\, Assoc. AIA (Central Virginia)\n\n* Will fulfill an unexpired term
URL:https://www.aiava.org/event/annual-membership-meeting/
LOCATION:Greater Richmond Convention Center\, 403 North Third Street\, Richmond\, VA\, 23219\, United States
CATEGORIES:Membership
ORGANIZER;CN="AIA Virginia":MAILTO:info@aiava.org
END:VEVENT
BEGIN:VEVENT
DTSTART;TZID=America/New_York:20191106T080000
DTEND;TZID=America/New_York:20191108T170000
DTSTAMP:20260424T032946
CREATED:20181121T184229Z
LAST-MODIFIED:20181121T184229Z
UID:10018030-1573027200-1573232400@www.aiava.org
SUMMARY:ArchEx
DESCRIPTION:Architecture Exchange East\, Nov. 6-8\, 2019
URL:https://www.aiava.org/event/archex/
LOCATION:Greater Richmond Convention Center\, 403 North Third Street\, Richmond\, VA\, 23219\, United States
CATEGORIES:Education
ORGANIZER;CN="AIA Virginia":MAILTO:info@aiava.org
END:VEVENT
BEGIN:VEVENT
DTSTART;TZID=America/New_York:20191021T170000
DTEND;TZID=America/New_York:20191021T190000
DTSTAMP:20260424T032946
CREATED:20191007T121823Z
LAST-MODIFIED:20191007T122806Z
UID:10018040-1571677200-1571684400@www.aiava.org
SUMMARY:The Branch Museum's Learning from Landmarks
DESCRIPTION:A Reception at The Branch kicks off the evening from 5:00 – 5:45 p.m. \nLearning from Landmarks program will begin at 6:00 p.m. \nThis moderated interview with Hugh C. Miller FAIA\, FAPT\, will explore Hugh’s career as the National Park Service’s 2nd Chief Historical Architect between 1979 and 1988. During that tenure\, he was the Park Service’s Executive Architect for the restoration of the Statue of Liberty\, Ellis Island\, Independence Hall\, and principal steward of many nationally-significant historic buildings and landscapes in the Service’s care. \nThe evening is moderated by Donna Dunay\, FAIA\, DPACSA from Virginia Tech’s School of Architecture + Design. \n  \nTicket Options: \nReception with Program Following: $100 \n($80 for Branch Museum Members and AIA Virginia Members) \nProgram Only:$25 \n($20 for Branch Museum Members and AIA Virginia Members) \nRegister online.
URL:https://www.aiava.org/event/the-branch-museums-learning-from-landmarks/
LOCATION:The Branch Museum of Architecture and Design\, 2501 Monument Avenue\, Richmond\, 23220\, United States
CATEGORIES:Outreach
ORGANIZER;CN="The Branch Museum of Architecture and Design":MAILTO:ckashani@branchmuseum.org
END:VEVENT
BEGIN:VEVENT
DTSTART;VALUE=DATE:20191011
DTEND;VALUE=DATE:20191012
DTSTAMP:20260424T032946
CREATED:20190131T172543Z
LAST-MODIFIED:20190926T164854Z
UID:10018008-1570752000-1570838399@www.aiava.org
SUMMARY:Emerging Leaders in Architecture: Session 7
DESCRIPTION:Emerging Leaders in Architecture: Session 7\nValue of Good Design\nFriday\, October 11\, 2019\nWashington-Alexandria Architecture Center (WAAC)
URL:https://www.aiava.org/event/emerging-leaders-in-architecture-session-7/
CATEGORIES:Emerging Leaders
ORGANIZER;CN="AIA Virginia":MAILTO:info@aiava.org
END:VEVENT
BEGIN:VEVENT
DTSTART;TZID=America/New_York:20190924T120000
DTEND;TZID=America/New_York:20190924T140000
DTSTAMP:20260424T032946
CREATED:20190802T190021Z
LAST-MODIFIED:20190905T120335Z
UID:10018037-1569326400-1569333600@www.aiava.org
SUMMARY:ACE Virginia: Joint Owner Forum
DESCRIPTION:  \n  \n  \n  \nLocal Governments in Northern Virginia \nAddress:  AGC America\n2300 Wilson Blvd.\nArlington\, VA 22201 \nDate: Tuesday\, September 24\, 2019 \nTime: 12:00 – 2:00 p.m. [lunch will be provided\, along with a networking social that starts at 2 p.m.] \nCost: $50 [AIA Virginia members only] \nLUs: 2 \nLocal Govts invited: \n\nLoudoun County\nArlington County and City\nPrince William\nFairfax\nAlexandria City\n\nScheduled Speakers \n\nSen. Jeremy McPike – Director of the Department of General Services (Alexandria)\nJohn C. Chadwick\, AIA – Assistant Superintendent of Facilities and Operations (Arlington Public Schools)\nPatti Innocenti – Deputy Director of Purchasing & Supply (Fairfax)\nCheryl Middleton – Purchasing Agent (Loudoun County)\nLou Ann Dorrier\, RA – County Architect and Division Chief\, Facilities Construction Management (Prince William County)\n\nSponsored by\nLPDA \nRegister today>>
URL:https://www.aiava.org/event/ace-virginia-joint-owner-forum-3/
LOCATION:AGC America\, 2300 Wilson Blvd.\,\, Arlington\, VA\, 22201\, United States
CATEGORIES:Business Development
ORGANIZER;CN="AIA Virginia":MAILTO:info@aiava.org
END:VEVENT
BEGIN:VEVENT
DTSTART;VALUE=DATE:20190913
DTEND;VALUE=DATE:20190914
DTSTAMP:20260424T032946
CREATED:20190131T172421Z
LAST-MODIFIED:20190802T191418Z
UID:10018093-1568332800-1568419199@www.aiava.org
SUMMARY:Emerging Leaders in Architecture: Session 6
DESCRIPTION:Emerging Leaders in Architecture: Session 6\nFirm Foundations\nSeptember 13\, 2019\nAECOM\, Roanoke
URL:https://www.aiava.org/event/emerging-leaders-in-architecture-session-6/
LOCATION:AECOM Roanoke\, 10 S Jefferson St\, Roanoke\, VA
CATEGORIES:Emerging Leaders
ORGANIZER;CN="AIA Virginia":MAILTO:info@aiava.org
END:VEVENT
BEGIN:VEVENT
DTSTART;TZID=America/New_York:20190906T090000
DTEND;TZID=America/New_York:20190906T163000
DTSTAMP:20260424T032946
CREATED:20190726T210701Z
LAST-MODIFIED:20190726T212439Z
UID:10018015-1567760400-1567787400@www.aiava.org
SUMMARY:SAP Training
DESCRIPTION:This course certifies attendees as Building Evaluators in the nationally recognized Safety Assessment Program (SAP). Intended for licensed architects\, engineers\, or certified building inspectors\, the program is managed by Cal OES with cooperation from professional organizations\, including the AIA. Learn more>> \nRegister online.
URL:https://www.aiava.org/event/sap-training-2/
LOCATION:The Branch Museum of Architecture and Design\, 2501 Monument Avenue\, Richmond\, 23220\, United States
CATEGORIES:Education
END:VEVENT
BEGIN:VEVENT
DTSTART;VALUE=DATE:20190809
DTEND;VALUE=DATE:20190810
DTSTAMP:20260424T032946
CREATED:20190131T172255Z
LAST-MODIFIED:20190131T172255Z
UID:10018014-1565308800-1565395199@www.aiava.org
SUMMARY:Emerging Leaders in Architecture: Class Project Work Session
DESCRIPTION:Emerging Leaders in Architecture: Class Project Work Session\nFriday\, August 9\, 2019\nArlington or Alexandria
URL:https://www.aiava.org/event/emerging-leaders-in-architecture-class-project-work-session/
CATEGORIES:Emerging Leaders
ORGANIZER;CN="AIA Virginia":MAILTO:info@aiava.org
END:VEVENT
BEGIN:VEVENT
DTSTART;TZID=America/New_York:20190712T093000
DTEND;TZID=America/New_York:20190712T180000
DTSTAMP:20260424T032946
CREATED:20190131T172103Z
LAST-MODIFIED:20190405T143633Z
UID:10018013-1562923800-1562954400@www.aiava.org
SUMMARY:Emerging Leaders in Architecture: Session 5
DESCRIPTION:Emerging Leaders in Architecture: Session 5\nCommunicating Effectively\nFriday\, July 12\, 2019\nVarina Library\, Henrico\, VA
URL:https://www.aiava.org/event/emerging-leaders-in-architecture-session-5/
LOCATION:Varina Library\, 1875 New Market Road\, Henrico\, VA\, 23231\, United States
CATEGORIES:Emerging Leaders
ORGANIZER;CN="AIA Virginia":MAILTO:info@aiava.org
END:VEVENT
BEGIN:VEVENT
DTSTART;TZID=America/New_York:20190621T111500
DTEND;TZID=America/New_York:20190621T120000
DTSTAMP:20260424T032946
CREATED:20190509T144435Z
LAST-MODIFIED:20190509T144702Z
UID:10018017-1561115700-1561118400@www.aiava.org
SUMMARY:Virtual Membership Meeting
DESCRIPTION:Hear about the work happening within your professional society at a virtual Meeting of the Membership on Friday\, June 21\, 2019\, beginning at 11:15 a.m. \n\n\n\nTo engage the broadest number of participants\, members can join the meeting electronically. \nReview the following meeting documents:Membership Meeting AgendaMinutes from November 8\, 2018\, Annual Membership Meeting \n\n\n \n\n\n\n \n\n\n\n\n\nAfter registering\, you will receive a confirmation email containing information about joining the webinar. \n\n\n\nPlease take a moment to download and test the meeting software. It takes just a few minutes to activate your account and make sure everything is working. Technical questions? Call (804) 237-1768
URL:https://www.aiava.org/event/virtual-membership-meeting/
CATEGORIES:Membership
ATTACH;FMTTYPE=image/jpeg:https://www.aiava.org/wp-content/uploads/2018/07/membership-meeting-photo.jpg
ORGANIZER;CN="AIA Virginia":MAILTO:info@aiava.org
END:VEVENT
BEGIN:VEVENT
DTSTART;TZID=America/New_York:20190614T093000
DTEND;TZID=America/New_York:20190614T180000
DTSTAMP:20260424T032946
CREATED:20190131T171946Z
LAST-MODIFIED:20190405T143013Z
UID:10018012-1560504600-1560535200@www.aiava.org
SUMMARY:Emerging Leaders in Architecture: Session 4
DESCRIPTION:Emerging Leaders in Architecture: Session 4\nWorking Together\nFriday\, June 14\, 2019\nVIA Architects\, Norfolk
URL:https://www.aiava.org/event/emerging-leaders-in-architecture-session-4/
LOCATION:VIA Design Architects\, 319 E Plume St.\, Norfolk\, VA\, 23510\, United States
CATEGORIES:Emerging Leaders
ORGANIZER;CN="AIA Virginia":MAILTO:info@aiava.org
END:VEVENT
BEGIN:VEVENT
DTSTART;TZID=America/New_York:20190607T073000
DTEND;TZID=America/New_York:20190607T084500
DTSTAMP:20260424T032946
CREATED:20190415T185336Z
LAST-MODIFIED:20190605T203513Z
UID:10018021-1559892600-1559897100@www.aiava.org
SUMMARY:Region of the Virginias Breakfast Reception A'19
DESCRIPTION:Attending A’19 in Vegas? \n \n \nJoin us for the Region of The Virginias Breakfast reception hosted by AIA Virginia and AIA West Virginia. \nEncore Las Vegas – Strauss Meeting Room\nFriday\, June 7\n7:30-8:45 a.m.\nCost: $20 \nThank you to our sponsors: \nAcoustics First Corporation\nAllegion\nThe Garland Company\nMEB General Contractors
URL:https://www.aiava.org/event/region-of-the-virginias-breakfast-reception-a19/
LOCATION:Encore Las Vegas\, 3131 S Las Vegas Blvd\, Las Vegas\, Nevada\, 89109
CATEGORIES:Social
ORGANIZER;CN="AIA Virginia":MAILTO:info@aiava.org
END:VEVENT
BEGIN:VEVENT
DTSTART;TZID=America/New_York:20190606T080000
DTEND;TZID=America/New_York:20190609T170000
DTSTAMP:20260424T032946
CREATED:20181121T183943Z
LAST-MODIFIED:20181121T183943Z
UID:10018029-1559808000-1560099600@www.aiava.org
SUMMARY:A'19
DESCRIPTION:AIA Conference on Architecture
URL:https://www.aiava.org/event/a19/
LOCATION:Wynn Las Vegas\, 3131 S. Las Vegas Blvd\, Las Vegas\, NV\, 89109\, United States
CATEGORIES:Education
END:VEVENT
BEGIN:VEVENT
DTSTART;TZID=America/New_York:20190516T170000
DTEND;TZID=America/New_York:20190516T200000
DTSTAMP:20260424T032946
CREATED:20190405T144510Z
LAST-MODIFIED:20190426T145954Z
UID:10018020-1558026000-1558036800@www.aiava.org
SUMMARY:AIA Virginia Open House
DESCRIPTION:Stop by and see the new AIA Virginia offices! \n \nParking is available in the Bookbindery garage on Broad Street. \nLight appetizers and drinks will be served.
URL:https://www.aiava.org/event/aia-virginia-open-house/
LOCATION:AIA Virginia\, 2201 W. Broad St.\, Ste. 207\, Richmond\, VA\, 23220\, United States
CATEGORIES:Social
ORGANIZER;CN="AIA Virginia":MAILTO:info@aiava.org
END:VEVENT
BEGIN:VEVENT
DTSTART;VALUE=DATE:20190510
DTEND;VALUE=DATE:20190511
DTSTAMP:20260424T032946
CREATED:20190131T171817Z
LAST-MODIFIED:20190131T171817Z
UID:10018011-1557446400-1557532799@www.aiava.org
SUMMARY:ELA Class Project Work Session
DESCRIPTION:Emerging Leaders in Architecture: Class Project Work Session\nFriday\, May 10\, 2019\nArlington or Alexandria
URL:https://www.aiava.org/event/ela-class-project-work-session/
CATEGORIES:Emerging Leaders
ORGANIZER;CN="AIA Virginia":MAILTO:info@aiava.org
END:VEVENT
BEGIN:VEVENT
DTSTART;TZID=America/New_York:20190509T160000
DTEND;TZID=America/New_York:20190509T173000
DTSTAMP:20260424T032946
CREATED:20190501T125531Z
LAST-MODIFIED:20190501T125531Z
UID:10018016-1557417600-1557423000@www.aiava.org
SUMMARY:Insuring History
DESCRIPTION:Join us at the Wilton House Museum to explore the value and uniqueness of historic homes through the lens of insurance. \nRSVP here>> \n\nstay for the evening event\nAntiques on the James  \n\n\nAfter the Historic Home presentation\, we extend a warm invitation for you and your guests to enjoy an evening of great company and antiques.\n​\nYou are invited to bring a family heirloom\, jewelry or a fine art item for a complimentary auction valuation by a specialist from Freeman’s\, America’s oldest auction house.
URL:https://www.aiava.org/event/insuring-history/
LOCATION:Wilton House\, 215 S. Wilton Rd\, Richmond\, Virginia
CATEGORIES:Education,Historic Resources Committee
END:VEVENT
BEGIN:VEVENT
DTSTART;TZID=America/New_York:20190423T143000
DTEND;TZID=America/New_York:20190423T163000
DTSTAMP:20260424T032946
CREATED:20190216T182109Z
LAST-MODIFIED:20190218T135041Z
UID:10018018-1556029800-1556037000@www.aiava.org
SUMMARY:ACE Virginia Joint Owner Forum
DESCRIPTION:Join us for the Joint Owner Forum with Local Government Clients from the Hampton Roads region of Virginia. \nAn interactive panel discussion with key local government decision-makers will be held to discuss upcoming projects and ways the industry can best collaborate with the respective bodies. \nEarn 2 AIA LU|Elective \nRegister online.
URL:https://www.aiava.org/event/ace-virginia-joint-owner-forum-2/
LOCATION:Marriott Norfolk Waterside\, 235 E. Main Street\, Norfolk\, VA\, 23510
CATEGORIES:Education
ATTACH;FMTTYPE=image/jpeg:https://www.aiava.org/wp-content/uploads/2018/05/ACE-Banner-page-001-1.jpg
END:VEVENT
BEGIN:VEVENT
DTSTART;TZID=America/New_York:20190421T080000
DTEND;TZID=America/New_York:20190427T170000
DTSTAMP:20260424T032946
CREATED:20181121T183314Z
LAST-MODIFIED:20181121T183538Z
UID:10018052-1555833600-1556384400@www.aiava.org
SUMMARY:Architecture Week
DESCRIPTION:Architecture Week\, April 21-27\, 2019
URL:https://www.aiava.org/event/architecture-week-7/
CATEGORIES:Outreach
END:VEVENT
BEGIN:VEVENT
DTSTART;TZID=America/New_York:20190412T093000
DTEND;TZID=America/New_York:20190412T183000
DTSTAMP:20260424T032946
CREATED:20190131T171103Z
LAST-MODIFIED:20190401T204953Z
UID:10018025-1555061400-1555093800@www.aiava.org
SUMMARY:Emerging Leaders in Architecture: Session 3
DESCRIPTION:ELA Session #3: Serving Communities\nApril 12\, 2019\nSunrise Community Room\n1412 Carlton Avenue\nCharlottesville\, VA \nemail cguske@aiava.org for details
URL:https://www.aiava.org/event/emerging-leaders-in-architecture-session-3/
LOCATION:Charlottesville\, VA
CATEGORIES:Emerging Leaders
END:VEVENT
BEGIN:VEVENT
DTSTART;TZID=America/New_York:20190406T080000
DTEND;TZID=America/New_York:20190406T153000
DTSTAMP:20260424T032946
CREATED:20190225T174427Z
LAST-MODIFIED:20190225T174427Z
UID:10018019-1554537600-1554564600@www.aiava.org
SUMMARY:SAP Training
DESCRIPTION:This course certifies attendees as Building Evaluators in the nationally recognized Safety Assessment Program (SAP). Intended for licensed architects\, engineers\, or certified building inspectors\, the program is managed by Cal OES with cooperation from professional organizations\, including the AIA. It utilizes volunteers and mutual aid resources to provide professional engineers\, architects and certified building inspectors to assist local governments in safety evaluation of their built environment in an aftermath of a disaster. \nSAP is the training standard of the AIA Disaster Assistance Program\, which provides leadership\, advocacy\, and training to architects who are interested in volunteering their professional skills in times of crisis. This workshop will teach participants to conduct rapid damage assessments of structures affected by earthquakes\, wind\, and water. Upon completion of this course\, participants will be able to consistently and safely assess structures for habitability and will receive a nationally recognized Cal OES registration ID card from the state of California. \nRegister online. \nBreakfast and lunch and is included in the registration.  All participants will be able to earn 6.5 AIA LU|HSW.
URL:https://www.aiava.org/event/sap-training/
LOCATION:Jacobs\, 1100 N. Glebe Road\, Suite 500\, Arlington\, VA\, 22201
CATEGORIES:Education
ATTACH;FMTTYPE=image/jpeg:https://www.aiava.org/wp-content/uploads/2019/02/Houston.jpg
ORGANIZER;CN="AIA Virginia":MAILTO:info@aiava.org
END:VEVENT
BEGIN:VEVENT
DTSTART;TZID=America/New_York:20190323T183000
DTEND;TZID=America/New_York:20190323T213000
DTSTAMP:20260424T032946
CREATED:20190131T171449Z
LAST-MODIFIED:20190131T171449Z
UID:10018010-1553365800-1553376600@www.aiava.org
SUMMARY:2019 Fellows Fete
DESCRIPTION:Saturday\, March 23\, 2019\n6:30 – 9:30 p.m. \nLe Méridien Arlington\n1121 19th Street N.\nArlington\, VA 22209 \nJoin us for cocktails\, dinner\, and a celebration of our new fellows!\nannouncement coming in February 2019 \nPurchase tickets here\nRegistration closes March 15\, 2019 \nHotel:\nThere is a block of rooms reserved at Le Méridien Arlington for the evening of Saturday\, March 23 at the rate of $159 per night (+taxes). Book your hotel at this discounted rate using this link. Deadline for room reservations is February 22\, 2019. \nParking:\nHotel parking $8 hourly\, $30 daily \nOptional:\nWalking Tour of Old Town Alexandria\nSaturday\, March 23\, 1:30 – 3:00 p.m. \nThe Old Town walking tour starts and ends at City Hall (301 King Street)\, south plaza entrance.  Highlights of the tour will include private tours of the Stabler-Leadbeater Apothecary Museum and the Carlyle House — one of the nation’s finest examples of Georgian architecture. \nThis event will take place on Saturday afternoon\, rain or shine.  Suggested parking is located at Market Square garage (110 N. Fairfax Street).  There is no charge for the tour\, but pre-registration is required. \nOptional:\n2019 Fellows Golf Outing at Mount Vernon Country Club \nThe event is planned for Sunday\, March 24 at Mount Vernon Country Club.  Please contact Baird Smith\, FAIA at bairdmsmith98@gmail.com  for more information. \nMount Vernon Country Club is a championship golf course which winds its way through the original forest of George Washington’s Mount Vernon plantation.  It is an Audubon Cooperative Sanctuary that protects the environment through habitat management\, chemical use reduction\, and water conservation. The course is also enhanced by the presence of Dogue Creek\, a tidal tributary which lends a water hazard challenge on 14 of Mount Vernon’s 18 holes. \nThank you to our sponsors\nShow your support for this event through sponsorships. Contact Judy Cheadle\, jcheadle@aiava.org for more information.
URL:https://www.aiava.org/event/2019-fellows-fete/
LOCATION:LeMeridien Arlington\, 1121 19th Street N.\, Arlington\, VA\, 22209
CATEGORIES:Social
ORGANIZER;CN="AIA Virginia":MAILTO:info@aiava.org
END:VEVENT
BEGIN:VEVENT
DTSTART;TZID=America/New_York:20190322T093000
DTEND;TZID=America/New_York:20190322T160000
DTSTAMP:20260424T032946
CREATED:20190130T170235Z
LAST-MODIFIED:20190321T182008Z
UID:10018092-1553247000-1553270400@www.aiava.org
SUMMARY:Art of Practice
DESCRIPTION:The second biennial Art of Practice is intended to elevate the business skills of firm leaders and cultivate connections between peers in a comfortable\, retreat-like atmosphere. The day-long program takes place at the Winery at Bull in Northern Virginia. \nBoth seasoned and emerging leaders will come together to share and learn best practices\, advance their business skills\, and form a lasting network of peers. \nPlease join us in thanking our generous sponsors: \nPella Windows of Virginia\nHinge Marketing\nVMDO Architects\nMEB General Contractors
URL:https://www.aiava.org/event/art-of-practice-2/
LOCATION:Winery at Bull Run\, 15950 Lee Highway\, Centreville\, VA\, 20120\, United States
CATEGORIES:Education
ORGANIZER;CN="AIA Virginia":MAILTO:info@aiava.org
END:VEVENT
BEGIN:VEVENT
DTSTART;TZID=America/New_York:20190311T080000
DTEND;TZID=America/New_York:20190312T170000
DTSTAMP:20260424T032946
CREATED:20190130T165448Z
LAST-MODIFIED:20190130T165448Z
UID:10018024-1552291200-1552410000@www.aiava.org
SUMMARY:[Partner Event] AIA National's Project Delivery Symposium 2019: Delivering the Future
DESCRIPTION:This symposium will consider the future of project delivery and its central role in balancing these unrelenting trends. Owners\, architects\, engineers\, constructors\, will come together to offer their perspectives on the latest strategies for driving project outcomes\, allocating risk\, and employing software to close the gap between design\, fabrication and construction. Learn more.
URL:https://www.aiava.org/event/partner-event-aia-nationals-project-delivery-symposium-2019-delivering-the-future/
LOCATION:AIA National Headquarters\, 1735 New York Ave NW\, Washington\, DC\, 20006-5292\, United States
CATEGORIES:Education
END:VEVENT
BEGIN:VEVENT
DTSTART;TZID=America/New_York:20190307T193000
DTEND;TZID=America/New_York:20190307T210000
DTSTAMP:20260424T032946
CREATED:20190206T145525Z
LAST-MODIFIED:20190206T192356Z
UID:10018009-1551987000-1551992400@www.aiava.org
SUMMARY:Grassroots Regional Dinner
DESCRIPTION:
URL:https://www.aiava.org/event/grassroots-regional-dinner/
LOCATION:Matchbox\, 713 H Street\, NW\, Washington\, DC\, 20001\, United States
CATEGORIES:Advocacy
ORGANIZER;CN="AIA Virginia":MAILTO:info@aiava.org
END:VEVENT
BEGIN:VEVENT
DTSTART;TZID=America/New_York:20190306T080000
DTEND;TZID=America/New_York:20190308T170000
DTSTAMP:20260424T032946
CREATED:20181121T183129Z
LAST-MODIFIED:20181121T183129Z
UID:10018028-1551859200-1552064400@www.aiava.org
SUMMARY:Grassroots
DESCRIPTION:
URL:https://www.aiava.org/event/grassroots-2/
LOCATION:Washington\, DC
CATEGORIES:Advocacy
END:VEVENT
BEGIN:VEVENT
DTSTART;VALUE=DATE:20190301
DTEND;VALUE=DATE:20190302
DTSTAMP:20260424T032946
CREATED:20190131T170901Z
LAST-MODIFIED:20190131T171631Z
UID:10018026-1551398400-1551484799@www.aiava.org
SUMMARY:Emerging Leaders in Architecture: Session 2
DESCRIPTION:ELA Session #2: Practicing Professionalism\nMarch 1\, 2019\nArlington\, VA \nemail cguske@aiava.org for details
URL:https://www.aiava.org/event/emerging-leaders-in-architecture-session-2/
LOCATION:AECOM Arlington\, 3101 Wilson Boulevard\, Ste. 900\, Arlington\, VA\, 23219-3843
CATEGORIES:Emerging Leaders
END:VEVENT
END:VCALENDAR