BEGIN:VCALENDAR
VERSION:2.0
PRODID:-//AIA Virginia - ECPv6.15.12.2//NONSGML v1.0//EN
CALSCALE:GREGORIAN
METHOD:PUBLISH
X-WR-CALNAME:AIA Virginia
X-ORIGINAL-URL:https://www.aiava.org
X-WR-CALDESC:Events for AIA Virginia
REFRESH-INTERVAL;VALUE=DURATION:PT1H
X-Robots-Tag:noindex
X-PUBLISHED-TTL:PT1H
BEGIN:VTIMEZONE
TZID:America/New_York
BEGIN:DAYLIGHT
TZOFFSETFROM:-0500
TZOFFSETTO:-0400
TZNAME:EDT
DTSTART:20280312T070000
END:DAYLIGHT
BEGIN:STANDARD
TZOFFSETFROM:-0400
TZOFFSETTO:-0500
TZNAME:EST
DTSTART:20281105T060000
END:STANDARD
BEGIN:DAYLIGHT
TZOFFSETFROM:-0500
TZOFFSETTO:-0400
TZNAME:EDT
DTSTART:20290311T070000
END:DAYLIGHT
BEGIN:STANDARD
TZOFFSETFROM:-0400
TZOFFSETTO:-0500
TZNAME:EST
DTSTART:20291104T060000
END:STANDARD
BEGIN:DAYLIGHT
TZOFFSETFROM:-0500
TZOFFSETTO:-0400
TZNAME:EDT
DTSTART:20300310T070000
END:DAYLIGHT
BEGIN:STANDARD
TZOFFSETFROM:-0400
TZOFFSETTO:-0500
TZNAME:EST
DTSTART:20301103T060000
END:STANDARD
BEGIN:DAYLIGHT
TZOFFSETFROM:-0500
TZOFFSETTO:-0400
TZNAME:EDT
DTSTART:20310309T070000
END:DAYLIGHT
BEGIN:STANDARD
TZOFFSETFROM:-0400
TZOFFSETTO:-0500
TZNAME:EST
DTSTART:20311102T060000
END:STANDARD
END:VTIMEZONE
BEGIN:VEVENT
DTSTART;TZID=America/New_York:20290116T143000
DTEND;TZID=America/New_York:20290116T153000
DTSTAMP:20260421T202013
CREATED:20250922T134952Z
LAST-MODIFIED:20250922T134952Z
UID:10018672-1863268200-1863271800@www.aiava.org
SUMMARY:PAC Board of Trustees
DESCRIPTION:To stimulate persons engaged in the practice of architecture\, their employees and others with similar interests to take a more active and effective role in governmental affairs. To solicit and receive from persons engaged in the practice of architecture\, their employees and others with similar interests contributions into a fund to be used to assist candidates for public office who support the profession of architecture. \nFor information on this Board of Trustees or any other advisory council or committee\, contact Paul Battaglia\, AIA or email info@aiava.org
URL:https://www.aiava.org/event/pac-board-of-trustees/2029-01-16/
LOCATION:Zoom Virtual Meeting
CATEGORIES:Councils and Committees
ORGANIZER;CN="AIA Virginia":MAILTO:info@aiava.org
END:VEVENT
BEGIN:VEVENT
DTSTART;TZID=America/New_York:20290213T140000
DTEND;TZID=America/New_York:20290213T150000
DTSTAMP:20260421T202013
CREATED:20250922T134643Z
LAST-MODIFIED:20250922T134643Z
UID:10018632-1865685600-1865689200@www.aiava.org
SUMMARY:Advocacy Advisory Council
DESCRIPTION:The Advocacy Advisory Council is responsible for reviewing\, advising\, and coordinating activity in the broad area of government affairs\, whether on legislative\, regulatory\, code\, or other issues at the state level. \nFor information on this advisory council or any other council or committee\, contact Paul Battaglia\, AIA or email info@aiava.org
URL:https://www.aiava.org/event/advocacy-advisory-council/2029-02-13/
LOCATION:Zoom Virtual Meeting
CATEGORIES:Councils and Committees
ORGANIZER;CN="AIA Virginia":MAILTO:info@aiava.org
END:VEVENT
BEGIN:VEVENT
DTSTART;TZID=America/New_York:20290313T140000
DTEND;TZID=America/New_York:20290313T150000
DTSTAMP:20260421T202013
CREATED:20250922T134643Z
LAST-MODIFIED:20250922T134643Z
UID:10018633-1868104800-1868108400@www.aiava.org
SUMMARY:Advocacy Advisory Council
DESCRIPTION:The Advocacy Advisory Council is responsible for reviewing\, advising\, and coordinating activity in the broad area of government affairs\, whether on legislative\, regulatory\, code\, or other issues at the state level. \nFor information on this advisory council or any other council or committee\, contact Paul Battaglia\, AIA or email info@aiava.org
URL:https://www.aiava.org/event/advocacy-advisory-council/2029-03-13/
LOCATION:Zoom Virtual Meeting
CATEGORIES:Councils and Committees
ORGANIZER;CN="AIA Virginia":MAILTO:info@aiava.org
END:VEVENT
BEGIN:VEVENT
DTSTART;TZID=America/New_York:20290320T143000
DTEND;TZID=America/New_York:20290320T153000
DTSTAMP:20260421T202013
CREATED:20250922T134952Z
LAST-MODIFIED:20250922T134952Z
UID:10018673-1868711400-1868715000@www.aiava.org
SUMMARY:PAC Board of Trustees
DESCRIPTION:To stimulate persons engaged in the practice of architecture\, their employees and others with similar interests to take a more active and effective role in governmental affairs. To solicit and receive from persons engaged in the practice of architecture\, their employees and others with similar interests contributions into a fund to be used to assist candidates for public office who support the profession of architecture. \nFor information on this Board of Trustees or any other advisory council or committee\, contact Paul Battaglia\, AIA or email info@aiava.org
URL:https://www.aiava.org/event/pac-board-of-trustees/2029-03-20/
LOCATION:Zoom Virtual Meeting
CATEGORIES:Councils and Committees
ORGANIZER;CN="AIA Virginia":MAILTO:info@aiava.org
END:VEVENT
BEGIN:VEVENT
DTSTART;TZID=America/New_York:20290410T140000
DTEND;TZID=America/New_York:20290410T150000
DTSTAMP:20260421T202013
CREATED:20250922T134643Z
LAST-MODIFIED:20250922T134643Z
UID:10018634-1870524000-1870527600@www.aiava.org
SUMMARY:Advocacy Advisory Council
DESCRIPTION:The Advocacy Advisory Council is responsible for reviewing\, advising\, and coordinating activity in the broad area of government affairs\, whether on legislative\, regulatory\, code\, or other issues at the state level. \nFor information on this advisory council or any other council or committee\, contact Paul Battaglia\, AIA or email info@aiava.org
URL:https://www.aiava.org/event/advocacy-advisory-council/2029-04-10/
LOCATION:Zoom Virtual Meeting
CATEGORIES:Councils and Committees
ORGANIZER;CN="AIA Virginia":MAILTO:info@aiava.org
END:VEVENT
BEGIN:VEVENT
DTSTART;TZID=America/New_York:20290508T140000
DTEND;TZID=America/New_York:20290508T150000
DTSTAMP:20260421T202013
CREATED:20250922T134643Z
LAST-MODIFIED:20250922T134643Z
UID:10018635-1872943200-1872946800@www.aiava.org
SUMMARY:Advocacy Advisory Council
DESCRIPTION:The Advocacy Advisory Council is responsible for reviewing\, advising\, and coordinating activity in the broad area of government affairs\, whether on legislative\, regulatory\, code\, or other issues at the state level. \nFor information on this advisory council or any other council or committee\, contact Paul Battaglia\, AIA or email info@aiava.org
URL:https://www.aiava.org/event/advocacy-advisory-council/2029-05-08/
LOCATION:Zoom Virtual Meeting
CATEGORIES:Councils and Committees
ORGANIZER;CN="AIA Virginia":MAILTO:info@aiava.org
END:VEVENT
BEGIN:VEVENT
DTSTART;TZID=America/New_York:20290515T143000
DTEND;TZID=America/New_York:20290515T153000
DTSTAMP:20260421T202013
CREATED:20250922T134952Z
LAST-MODIFIED:20250922T134952Z
UID:10018674-1873549800-1873553400@www.aiava.org
SUMMARY:PAC Board of Trustees
DESCRIPTION:To stimulate persons engaged in the practice of architecture\, their employees and others with similar interests to take a more active and effective role in governmental affairs. To solicit and receive from persons engaged in the practice of architecture\, their employees and others with similar interests contributions into a fund to be used to assist candidates for public office who support the profession of architecture. \nFor information on this Board of Trustees or any other advisory council or committee\, contact Paul Battaglia\, AIA or email info@aiava.org
URL:https://www.aiava.org/event/pac-board-of-trustees/2029-05-15/
LOCATION:Zoom Virtual Meeting
CATEGORIES:Councils and Committees
ORGANIZER;CN="AIA Virginia":MAILTO:info@aiava.org
END:VEVENT
BEGIN:VEVENT
DTSTART;TZID=America/New_York:20290612T140000
DTEND;TZID=America/New_York:20290612T150000
DTSTAMP:20260421T202013
CREATED:20250922T134643Z
LAST-MODIFIED:20250922T134643Z
UID:10018636-1875967200-1875970800@www.aiava.org
SUMMARY:Advocacy Advisory Council
DESCRIPTION:The Advocacy Advisory Council is responsible for reviewing\, advising\, and coordinating activity in the broad area of government affairs\, whether on legislative\, regulatory\, code\, or other issues at the state level. \nFor information on this advisory council or any other council or committee\, contact Paul Battaglia\, AIA or email info@aiava.org
URL:https://www.aiava.org/event/advocacy-advisory-council/2029-06-12/
LOCATION:Zoom Virtual Meeting
CATEGORIES:Councils and Committees
ORGANIZER;CN="AIA Virginia":MAILTO:info@aiava.org
END:VEVENT
BEGIN:VEVENT
DTSTART;TZID=America/New_York:20290710T140000
DTEND;TZID=America/New_York:20290710T150000
DTSTAMP:20260421T202013
CREATED:20250922T134643Z
LAST-MODIFIED:20250922T134643Z
UID:10018637-1878386400-1878390000@www.aiava.org
SUMMARY:Advocacy Advisory Council
DESCRIPTION:The Advocacy Advisory Council is responsible for reviewing\, advising\, and coordinating activity in the broad area of government affairs\, whether on legislative\, regulatory\, code\, or other issues at the state level. \nFor information on this advisory council or any other council or committee\, contact Paul Battaglia\, AIA or email info@aiava.org
URL:https://www.aiava.org/event/advocacy-advisory-council/2029-07-10/
LOCATION:Zoom Virtual Meeting
CATEGORIES:Councils and Committees
ORGANIZER;CN="AIA Virginia":MAILTO:info@aiava.org
END:VEVENT
BEGIN:VEVENT
DTSTART;TZID=America/New_York:20290717T143000
DTEND;TZID=America/New_York:20290717T153000
DTSTAMP:20260421T202013
CREATED:20250922T134952Z
LAST-MODIFIED:20250922T134952Z
UID:10018675-1878993000-1878996600@www.aiava.org
SUMMARY:PAC Board of Trustees
DESCRIPTION:To stimulate persons engaged in the practice of architecture\, their employees and others with similar interests to take a more active and effective role in governmental affairs. To solicit and receive from persons engaged in the practice of architecture\, their employees and others with similar interests contributions into a fund to be used to assist candidates for public office who support the profession of architecture. \nFor information on this Board of Trustees or any other advisory council or committee\, contact Paul Battaglia\, AIA or email info@aiava.org
URL:https://www.aiava.org/event/pac-board-of-trustees/2029-07-17/
LOCATION:Zoom Virtual Meeting
CATEGORIES:Councils and Committees
ORGANIZER;CN="AIA Virginia":MAILTO:info@aiava.org
END:VEVENT
BEGIN:VEVENT
DTSTART;TZID=America/New_York:20290814T140000
DTEND;TZID=America/New_York:20290814T150000
DTSTAMP:20260421T202013
CREATED:20250922T134643Z
LAST-MODIFIED:20250922T134643Z
UID:10018638-1881410400-1881414000@www.aiava.org
SUMMARY:Advocacy Advisory Council
DESCRIPTION:The Advocacy Advisory Council is responsible for reviewing\, advising\, and coordinating activity in the broad area of government affairs\, whether on legislative\, regulatory\, code\, or other issues at the state level. \nFor information on this advisory council or any other council or committee\, contact Paul Battaglia\, AIA or email info@aiava.org
URL:https://www.aiava.org/event/advocacy-advisory-council/2029-08-14/
LOCATION:Zoom Virtual Meeting
CATEGORIES:Councils and Committees
ORGANIZER;CN="AIA Virginia":MAILTO:info@aiava.org
END:VEVENT
BEGIN:VEVENT
DTSTART;TZID=America/New_York:20290911T140000
DTEND;TZID=America/New_York:20290911T150000
DTSTAMP:20260421T202013
CREATED:20250922T134643Z
LAST-MODIFIED:20250922T134643Z
UID:10018639-1883829600-1883833200@www.aiava.org
SUMMARY:Advocacy Advisory Council
DESCRIPTION:The Advocacy Advisory Council is responsible for reviewing\, advising\, and coordinating activity in the broad area of government affairs\, whether on legislative\, regulatory\, code\, or other issues at the state level. \nFor information on this advisory council or any other council or committee\, contact Paul Battaglia\, AIA or email info@aiava.org
URL:https://www.aiava.org/event/advocacy-advisory-council/2029-09-11/
LOCATION:Zoom Virtual Meeting
CATEGORIES:Councils and Committees
ORGANIZER;CN="AIA Virginia":MAILTO:info@aiava.org
END:VEVENT
BEGIN:VEVENT
DTSTART;TZID=America/New_York:20290918T143000
DTEND;TZID=America/New_York:20290918T153000
DTSTAMP:20260421T202013
CREATED:20250922T134952Z
LAST-MODIFIED:20250922T134952Z
UID:10018676-1884436200-1884439800@www.aiava.org
SUMMARY:PAC Board of Trustees
DESCRIPTION:To stimulate persons engaged in the practice of architecture\, their employees and others with similar interests to take a more active and effective role in governmental affairs. To solicit and receive from persons engaged in the practice of architecture\, their employees and others with similar interests contributions into a fund to be used to assist candidates for public office who support the profession of architecture. \nFor information on this Board of Trustees or any other advisory council or committee\, contact Paul Battaglia\, AIA or email info@aiava.org
URL:https://www.aiava.org/event/pac-board-of-trustees/2029-09-18/
LOCATION:Zoom Virtual Meeting
CATEGORIES:Councils and Committees
ORGANIZER;CN="AIA Virginia":MAILTO:info@aiava.org
END:VEVENT
BEGIN:VEVENT
DTSTART;TZID=America/New_York:20291009T140000
DTEND;TZID=America/New_York:20291009T150000
DTSTAMP:20260421T202013
CREATED:20250922T134643Z
LAST-MODIFIED:20250922T134643Z
UID:10018640-1886248800-1886252400@www.aiava.org
SUMMARY:Advocacy Advisory Council
DESCRIPTION:The Advocacy Advisory Council is responsible for reviewing\, advising\, and coordinating activity in the broad area of government affairs\, whether on legislative\, regulatory\, code\, or other issues at the state level. \nFor information on this advisory council or any other council or committee\, contact Paul Battaglia\, AIA or email info@aiava.org
URL:https://www.aiava.org/event/advocacy-advisory-council/2029-10-09/
LOCATION:Zoom Virtual Meeting
CATEGORIES:Councils and Committees
ORGANIZER;CN="AIA Virginia":MAILTO:info@aiava.org
END:VEVENT
BEGIN:VEVENT
DTSTART;TZID=America/New_York:20291113T140000
DTEND;TZID=America/New_York:20291113T150000
DTSTAMP:20260421T202013
CREATED:20250922T134643Z
LAST-MODIFIED:20250922T134643Z
UID:10018641-1889272800-1889276400@www.aiava.org
SUMMARY:Advocacy Advisory Council
DESCRIPTION:The Advocacy Advisory Council is responsible for reviewing\, advising\, and coordinating activity in the broad area of government affairs\, whether on legislative\, regulatory\, code\, or other issues at the state level. \nFor information on this advisory council or any other council or committee\, contact Paul Battaglia\, AIA or email info@aiava.org
URL:https://www.aiava.org/event/advocacy-advisory-council/2029-11-13/
LOCATION:Zoom Virtual Meeting
CATEGORIES:Councils and Committees
ORGANIZER;CN="AIA Virginia":MAILTO:info@aiava.org
END:VEVENT
BEGIN:VEVENT
DTSTART;TZID=America/New_York:20291120T143000
DTEND;TZID=America/New_York:20291120T153000
DTSTAMP:20260421T202013
CREATED:20250922T134952Z
LAST-MODIFIED:20250922T134952Z
UID:10018677-1889879400-1889883000@www.aiava.org
SUMMARY:PAC Board of Trustees
DESCRIPTION:To stimulate persons engaged in the practice of architecture\, their employees and others with similar interests to take a more active and effective role in governmental affairs. To solicit and receive from persons engaged in the practice of architecture\, their employees and others with similar interests contributions into a fund to be used to assist candidates for public office who support the profession of architecture. \nFor information on this Board of Trustees or any other advisory council or committee\, contact Paul Battaglia\, AIA or email info@aiava.org
URL:https://www.aiava.org/event/pac-board-of-trustees/2029-11-20/
LOCATION:Zoom Virtual Meeting
CATEGORIES:Councils and Committees
ORGANIZER;CN="AIA Virginia":MAILTO:info@aiava.org
END:VEVENT
BEGIN:VEVENT
DTSTART;TZID=America/New_York:20291211T140000
DTEND;TZID=America/New_York:20291211T150000
DTSTAMP:20260421T202013
CREATED:20250922T134643Z
LAST-MODIFIED:20250922T134643Z
UID:10018642-1891692000-1891695600@www.aiava.org
SUMMARY:Advocacy Advisory Council
DESCRIPTION:The Advocacy Advisory Council is responsible for reviewing\, advising\, and coordinating activity in the broad area of government affairs\, whether on legislative\, regulatory\, code\, or other issues at the state level. \nFor information on this advisory council or any other council or committee\, contact Paul Battaglia\, AIA or email info@aiava.org
URL:https://www.aiava.org/event/advocacy-advisory-council/2029-12-11/
LOCATION:Zoom Virtual Meeting
CATEGORIES:Councils and Committees
ORGANIZER;CN="AIA Virginia":MAILTO:info@aiava.org
END:VEVENT
BEGIN:VEVENT
DTSTART;TZID=America/New_York:20300108T140000
DTEND;TZID=America/New_York:20300108T150000
DTSTAMP:20260421T202013
CREATED:20250922T134643Z
LAST-MODIFIED:20250922T134643Z
UID:10018643-1894111200-1894114800@www.aiava.org
SUMMARY:Advocacy Advisory Council
DESCRIPTION:The Advocacy Advisory Council is responsible for reviewing\, advising\, and coordinating activity in the broad area of government affairs\, whether on legislative\, regulatory\, code\, or other issues at the state level. \nFor information on this advisory council or any other council or committee\, contact Paul Battaglia\, AIA or email info@aiava.org
URL:https://www.aiava.org/event/advocacy-advisory-council/2030-01-08/
LOCATION:Zoom Virtual Meeting
CATEGORIES:Councils and Committees
ORGANIZER;CN="AIA Virginia":MAILTO:info@aiava.org
END:VEVENT
BEGIN:VEVENT
DTSTART;TZID=America/New_York:20300115T143000
DTEND;TZID=America/New_York:20300115T153000
DTSTAMP:20260421T202013
CREATED:20250922T134952Z
LAST-MODIFIED:20250922T134952Z
UID:10018678-1894717800-1894721400@www.aiava.org
SUMMARY:PAC Board of Trustees
DESCRIPTION:To stimulate persons engaged in the practice of architecture\, their employees and others with similar interests to take a more active and effective role in governmental affairs. To solicit and receive from persons engaged in the practice of architecture\, their employees and others with similar interests contributions into a fund to be used to assist candidates for public office who support the profession of architecture. \nFor information on this Board of Trustees or any other advisory council or committee\, contact Paul Battaglia\, AIA or email info@aiava.org
URL:https://www.aiava.org/event/pac-board-of-trustees/2030-01-15/
LOCATION:Zoom Virtual Meeting
CATEGORIES:Councils and Committees
ORGANIZER;CN="AIA Virginia":MAILTO:info@aiava.org
END:VEVENT
BEGIN:VEVENT
DTSTART;TZID=America/New_York:20300212T140000
DTEND;TZID=America/New_York:20300212T150000
DTSTAMP:20260421T202013
CREATED:20250922T134643Z
LAST-MODIFIED:20250922T134643Z
UID:10018644-1897135200-1897138800@www.aiava.org
SUMMARY:Advocacy Advisory Council
DESCRIPTION:The Advocacy Advisory Council is responsible for reviewing\, advising\, and coordinating activity in the broad area of government affairs\, whether on legislative\, regulatory\, code\, or other issues at the state level. \nFor information on this advisory council or any other council or committee\, contact Paul Battaglia\, AIA or email info@aiava.org
URL:https://www.aiava.org/event/advocacy-advisory-council/2030-02-12/
LOCATION:Zoom Virtual Meeting
CATEGORIES:Councils and Committees
ORGANIZER;CN="AIA Virginia":MAILTO:info@aiava.org
END:VEVENT
BEGIN:VEVENT
DTSTART;TZID=America/New_York:20300312T140000
DTEND;TZID=America/New_York:20300312T150000
DTSTAMP:20260421T202013
CREATED:20250922T134643Z
LAST-MODIFIED:20250922T134643Z
UID:10018645-1899554400-1899558000@www.aiava.org
SUMMARY:Advocacy Advisory Council
DESCRIPTION:The Advocacy Advisory Council is responsible for reviewing\, advising\, and coordinating activity in the broad area of government affairs\, whether on legislative\, regulatory\, code\, or other issues at the state level. \nFor information on this advisory council or any other council or committee\, contact Paul Battaglia\, AIA or email info@aiava.org
URL:https://www.aiava.org/event/advocacy-advisory-council/2030-03-12/
LOCATION:Zoom Virtual Meeting
CATEGORIES:Councils and Committees
ORGANIZER;CN="AIA Virginia":MAILTO:info@aiava.org
END:VEVENT
BEGIN:VEVENT
DTSTART;TZID=America/New_York:20300319T143000
DTEND;TZID=America/New_York:20300319T153000
DTSTAMP:20260421T202013
CREATED:20250922T134952Z
LAST-MODIFIED:20250922T134952Z
UID:10018679-1900161000-1900164600@www.aiava.org
SUMMARY:PAC Board of Trustees
DESCRIPTION:To stimulate persons engaged in the practice of architecture\, their employees and others with similar interests to take a more active and effective role in governmental affairs. To solicit and receive from persons engaged in the practice of architecture\, their employees and others with similar interests contributions into a fund to be used to assist candidates for public office who support the profession of architecture. \nFor information on this Board of Trustees or any other advisory council or committee\, contact Paul Battaglia\, AIA or email info@aiava.org
URL:https://www.aiava.org/event/pac-board-of-trustees/2030-03-19/
LOCATION:Zoom Virtual Meeting
CATEGORIES:Councils and Committees
ORGANIZER;CN="AIA Virginia":MAILTO:info@aiava.org
END:VEVENT
BEGIN:VEVENT
DTSTART;TZID=America/New_York:20300409T140000
DTEND;TZID=America/New_York:20300409T150000
DTSTAMP:20260421T202013
CREATED:20250922T134643Z
LAST-MODIFIED:20250922T134643Z
UID:10018646-1901973600-1901977200@www.aiava.org
SUMMARY:Advocacy Advisory Council
DESCRIPTION:The Advocacy Advisory Council is responsible for reviewing\, advising\, and coordinating activity in the broad area of government affairs\, whether on legislative\, regulatory\, code\, or other issues at the state level. \nFor information on this advisory council or any other council or committee\, contact Paul Battaglia\, AIA or email info@aiava.org
URL:https://www.aiava.org/event/advocacy-advisory-council/2030-04-09/
LOCATION:Zoom Virtual Meeting
CATEGORIES:Councils and Committees
ORGANIZER;CN="AIA Virginia":MAILTO:info@aiava.org
END:VEVENT
BEGIN:VEVENT
DTSTART;TZID=America/New_York:20300514T140000
DTEND;TZID=America/New_York:20300514T150000
DTSTAMP:20260421T202013
CREATED:20250922T134643Z
LAST-MODIFIED:20250922T134643Z
UID:10018647-1904997600-1905001200@www.aiava.org
SUMMARY:Advocacy Advisory Council
DESCRIPTION:The Advocacy Advisory Council is responsible for reviewing\, advising\, and coordinating activity in the broad area of government affairs\, whether on legislative\, regulatory\, code\, or other issues at the state level. \nFor information on this advisory council or any other council or committee\, contact Paul Battaglia\, AIA or email info@aiava.org
URL:https://www.aiava.org/event/advocacy-advisory-council/2030-05-14/
LOCATION:Zoom Virtual Meeting
CATEGORIES:Councils and Committees
ORGANIZER;CN="AIA Virginia":MAILTO:info@aiava.org
END:VEVENT
BEGIN:VEVENT
DTSTART;TZID=America/New_York:20300521T143000
DTEND;TZID=America/New_York:20300521T153000
DTSTAMP:20260421T202013
CREATED:20250922T134952Z
LAST-MODIFIED:20250922T134952Z
UID:10018680-1905604200-1905607800@www.aiava.org
SUMMARY:PAC Board of Trustees
DESCRIPTION:To stimulate persons engaged in the practice of architecture\, their employees and others with similar interests to take a more active and effective role in governmental affairs. To solicit and receive from persons engaged in the practice of architecture\, their employees and others with similar interests contributions into a fund to be used to assist candidates for public office who support the profession of architecture. \nFor information on this Board of Trustees or any other advisory council or committee\, contact Paul Battaglia\, AIA or email info@aiava.org
URL:https://www.aiava.org/event/pac-board-of-trustees/2030-05-21/
LOCATION:Zoom Virtual Meeting
CATEGORIES:Councils and Committees
ORGANIZER;CN="AIA Virginia":MAILTO:info@aiava.org
END:VEVENT
BEGIN:VEVENT
DTSTART;TZID=America/New_York:20300611T140000
DTEND;TZID=America/New_York:20300611T150000
DTSTAMP:20260421T202013
CREATED:20250922T134643Z
LAST-MODIFIED:20250922T134643Z
UID:10018648-1907416800-1907420400@www.aiava.org
SUMMARY:Advocacy Advisory Council
DESCRIPTION:The Advocacy Advisory Council is responsible for reviewing\, advising\, and coordinating activity in the broad area of government affairs\, whether on legislative\, regulatory\, code\, or other issues at the state level. \nFor information on this advisory council or any other council or committee\, contact Paul Battaglia\, AIA or email info@aiava.org
URL:https://www.aiava.org/event/advocacy-advisory-council/2030-06-11/
LOCATION:Zoom Virtual Meeting
CATEGORIES:Councils and Committees
ORGANIZER;CN="AIA Virginia":MAILTO:info@aiava.org
END:VEVENT
BEGIN:VEVENT
DTSTART;TZID=America/New_York:20300709T140000
DTEND;TZID=America/New_York:20300709T150000
DTSTAMP:20260421T202013
CREATED:20250922T134643Z
LAST-MODIFIED:20250922T134643Z
UID:10018649-1909836000-1909839600@www.aiava.org
SUMMARY:Advocacy Advisory Council
DESCRIPTION:The Advocacy Advisory Council is responsible for reviewing\, advising\, and coordinating activity in the broad area of government affairs\, whether on legislative\, regulatory\, code\, or other issues at the state level. \nFor information on this advisory council or any other council or committee\, contact Paul Battaglia\, AIA or email info@aiava.org
URL:https://www.aiava.org/event/advocacy-advisory-council/2030-07-09/
LOCATION:Zoom Virtual Meeting
CATEGORIES:Councils and Committees
ORGANIZER;CN="AIA Virginia":MAILTO:info@aiava.org
END:VEVENT
BEGIN:VEVENT
DTSTART;TZID=America/New_York:20300716T143000
DTEND;TZID=America/New_York:20300716T153000
DTSTAMP:20260421T202013
CREATED:20250922T134952Z
LAST-MODIFIED:20250922T134952Z
UID:10018681-1910442600-1910446200@www.aiava.org
SUMMARY:PAC Board of Trustees
DESCRIPTION:To stimulate persons engaged in the practice of architecture\, their employees and others with similar interests to take a more active and effective role in governmental affairs. To solicit and receive from persons engaged in the practice of architecture\, their employees and others with similar interests contributions into a fund to be used to assist candidates for public office who support the profession of architecture. \nFor information on this Board of Trustees or any other advisory council or committee\, contact Paul Battaglia\, AIA or email info@aiava.org
URL:https://www.aiava.org/event/pac-board-of-trustees/2030-07-16/
LOCATION:Zoom Virtual Meeting
CATEGORIES:Councils and Committees
ORGANIZER;CN="AIA Virginia":MAILTO:info@aiava.org
END:VEVENT
BEGIN:VEVENT
DTSTART;TZID=America/New_York:20300813T140000
DTEND;TZID=America/New_York:20300813T150000
DTSTAMP:20260421T202013
CREATED:20250922T134643Z
LAST-MODIFIED:20250922T134643Z
UID:10018650-1912860000-1912863600@www.aiava.org
SUMMARY:Advocacy Advisory Council
DESCRIPTION:The Advocacy Advisory Council is responsible for reviewing\, advising\, and coordinating activity in the broad area of government affairs\, whether on legislative\, regulatory\, code\, or other issues at the state level. \nFor information on this advisory council or any other council or committee\, contact Paul Battaglia\, AIA or email info@aiava.org
URL:https://www.aiava.org/event/advocacy-advisory-council/2030-08-13/
LOCATION:Zoom Virtual Meeting
CATEGORIES:Councils and Committees
ORGANIZER;CN="AIA Virginia":MAILTO:info@aiava.org
END:VEVENT
BEGIN:VEVENT
DTSTART;TZID=America/New_York:20300910T140000
DTEND;TZID=America/New_York:20300910T150000
DTSTAMP:20260421T202013
CREATED:20250922T134643Z
LAST-MODIFIED:20250922T134643Z
UID:10018651-1915279200-1915282800@www.aiava.org
SUMMARY:Advocacy Advisory Council
DESCRIPTION:The Advocacy Advisory Council is responsible for reviewing\, advising\, and coordinating activity in the broad area of government affairs\, whether on legislative\, regulatory\, code\, or other issues at the state level. \nFor information on this advisory council or any other council or committee\, contact Paul Battaglia\, AIA or email info@aiava.org
URL:https://www.aiava.org/event/advocacy-advisory-council/2030-09-10/
LOCATION:Zoom Virtual Meeting
CATEGORIES:Councils and Committees
ORGANIZER;CN="AIA Virginia":MAILTO:info@aiava.org
END:VEVENT
END:VCALENDAR