BEGIN:VCALENDAR
VERSION:2.0
PRODID:-//AIA Virginia - ECPv6.15.12.2//NONSGML v1.0//EN
CALSCALE:GREGORIAN
METHOD:PUBLISH
X-WR-CALNAME:AIA Virginia
X-ORIGINAL-URL:https://www.aiava.org
X-WR-CALDESC:Events for AIA Virginia
REFRESH-INTERVAL;VALUE=DURATION:PT1H
X-Robots-Tag:noindex
X-PUBLISHED-TTL:PT1H
BEGIN:VTIMEZONE
TZID:America/New_York
BEGIN:DAYLIGHT
TZOFFSETFROM:-0500
TZOFFSETTO:-0400
TZNAME:EDT
DTSTART:20260308T070000
END:DAYLIGHT
BEGIN:STANDARD
TZOFFSETFROM:-0400
TZOFFSETTO:-0500
TZNAME:EST
DTSTART:20261101T060000
END:STANDARD
BEGIN:DAYLIGHT
TZOFFSETFROM:-0500
TZOFFSETTO:-0400
TZNAME:EDT
DTSTART:20270314T070000
END:DAYLIGHT
BEGIN:STANDARD
TZOFFSETFROM:-0400
TZOFFSETTO:-0500
TZNAME:EST
DTSTART:20271107T060000
END:STANDARD
BEGIN:DAYLIGHT
TZOFFSETFROM:-0500
TZOFFSETTO:-0400
TZNAME:EDT
DTSTART:20280312T070000
END:DAYLIGHT
BEGIN:STANDARD
TZOFFSETFROM:-0400
TZOFFSETTO:-0500
TZNAME:EST
DTSTART:20281105T060000
END:STANDARD
BEGIN:DAYLIGHT
TZOFFSETFROM:-0500
TZOFFSETTO:-0400
TZNAME:EDT
DTSTART:20290311T070000
END:DAYLIGHT
BEGIN:STANDARD
TZOFFSETFROM:-0400
TZOFFSETTO:-0500
TZNAME:EST
DTSTART:20291104T060000
END:STANDARD
END:VTIMEZONE
BEGIN:VEVENT
DTSTART;TZID=America/New_York:20270112T140000
DTEND;TZID=America/New_York:20270112T150000
DTSTAMP:20260420T051320
CREATED:20250922T134643Z
LAST-MODIFIED:20250922T134643Z
UID:10018607-1799762400-1799766000@www.aiava.org
SUMMARY:Advocacy Advisory Council
DESCRIPTION:The Advocacy Advisory Council is responsible for reviewing\, advising\, and coordinating activity in the broad area of government affairs\, whether on legislative\, regulatory\, code\, or other issues at the state level. \nFor information on this advisory council or any other council or committee\, contact Paul Battaglia\, AIA or email info@aiava.org
URL:https://www.aiava.org/event/advocacy-advisory-council/2027-01-12/
LOCATION:Zoom Virtual Meeting
CATEGORIES:Councils and Committees
ORGANIZER;CN="AIA Virginia":MAILTO:info@aiava.org
END:VEVENT
BEGIN:VEVENT
DTSTART;TZID=America/New_York:20270119T143000
DTEND;TZID=America/New_York:20270119T153000
DTSTAMP:20260420T051320
CREATED:20250922T134952Z
LAST-MODIFIED:20250922T134952Z
UID:10018660-1800369000-1800372600@www.aiava.org
SUMMARY:PAC Board of Trustees
DESCRIPTION:To stimulate persons engaged in the practice of architecture\, their employees and others with similar interests to take a more active and effective role in governmental affairs. To solicit and receive from persons engaged in the practice of architecture\, their employees and others with similar interests contributions into a fund to be used to assist candidates for public office who support the profession of architecture. \nFor information on this Board of Trustees or any other advisory council or committee\, contact Paul Battaglia\, AIA or email info@aiava.org
URL:https://www.aiava.org/event/pac-board-of-trustees/2027-01-19/
LOCATION:Zoom Virtual Meeting
CATEGORIES:Councils and Committees
ORGANIZER;CN="AIA Virginia":MAILTO:info@aiava.org
END:VEVENT
BEGIN:VEVENT
DTSTART;TZID=America/New_York:20270209T140000
DTEND;TZID=America/New_York:20270209T150000
DTSTAMP:20260420T051320
CREATED:20250922T134643Z
LAST-MODIFIED:20250922T134643Z
UID:10018608-1802181600-1802185200@www.aiava.org
SUMMARY:Advocacy Advisory Council
DESCRIPTION:The Advocacy Advisory Council is responsible for reviewing\, advising\, and coordinating activity in the broad area of government affairs\, whether on legislative\, regulatory\, code\, or other issues at the state level. \nFor information on this advisory council or any other council or committee\, contact Paul Battaglia\, AIA or email info@aiava.org
URL:https://www.aiava.org/event/advocacy-advisory-council/2027-02-09/
LOCATION:Zoom Virtual Meeting
CATEGORIES:Councils and Committees
ORGANIZER;CN="AIA Virginia":MAILTO:info@aiava.org
END:VEVENT
BEGIN:VEVENT
DTSTART;TZID=America/New_York:20270309T140000
DTEND;TZID=America/New_York:20270309T150000
DTSTAMP:20260420T051320
CREATED:20250922T134643Z
LAST-MODIFIED:20250922T134643Z
UID:10018609-1804600800-1804604400@www.aiava.org
SUMMARY:Advocacy Advisory Council
DESCRIPTION:The Advocacy Advisory Council is responsible for reviewing\, advising\, and coordinating activity in the broad area of government affairs\, whether on legislative\, regulatory\, code\, or other issues at the state level. \nFor information on this advisory council or any other council or committee\, contact Paul Battaglia\, AIA or email info@aiava.org
URL:https://www.aiava.org/event/advocacy-advisory-council/2027-03-09/
LOCATION:Zoom Virtual Meeting
CATEGORIES:Councils and Committees
ORGANIZER;CN="AIA Virginia":MAILTO:info@aiava.org
END:VEVENT
BEGIN:VEVENT
DTSTART;TZID=America/New_York:20270316T143000
DTEND;TZID=America/New_York:20270316T153000
DTSTAMP:20260420T051320
CREATED:20250922T134952Z
LAST-MODIFIED:20250922T134952Z
UID:10018661-1805207400-1805211000@www.aiava.org
SUMMARY:PAC Board of Trustees
DESCRIPTION:To stimulate persons engaged in the practice of architecture\, their employees and others with similar interests to take a more active and effective role in governmental affairs. To solicit and receive from persons engaged in the practice of architecture\, their employees and others with similar interests contributions into a fund to be used to assist candidates for public office who support the profession of architecture. \nFor information on this Board of Trustees or any other advisory council or committee\, contact Paul Battaglia\, AIA or email info@aiava.org
URL:https://www.aiava.org/event/pac-board-of-trustees/2027-03-16/
LOCATION:Zoom Virtual Meeting
CATEGORIES:Councils and Committees
ORGANIZER;CN="AIA Virginia":MAILTO:info@aiava.org
END:VEVENT
BEGIN:VEVENT
DTSTART;TZID=America/New_York:20270413T140000
DTEND;TZID=America/New_York:20270413T150000
DTSTAMP:20260420T051320
CREATED:20250922T134643Z
LAST-MODIFIED:20250922T134643Z
UID:10018610-1807624800-1807628400@www.aiava.org
SUMMARY:Advocacy Advisory Council
DESCRIPTION:The Advocacy Advisory Council is responsible for reviewing\, advising\, and coordinating activity in the broad area of government affairs\, whether on legislative\, regulatory\, code\, or other issues at the state level. \nFor information on this advisory council or any other council or committee\, contact Paul Battaglia\, AIA or email info@aiava.org
URL:https://www.aiava.org/event/advocacy-advisory-council/2027-04-13/
LOCATION:Zoom Virtual Meeting
CATEGORIES:Councils and Committees
ORGANIZER;CN="AIA Virginia":MAILTO:info@aiava.org
END:VEVENT
BEGIN:VEVENT
DTSTART;TZID=America/New_York:20270511T140000
DTEND;TZID=America/New_York:20270511T150000
DTSTAMP:20260420T051320
CREATED:20250922T134643Z
LAST-MODIFIED:20250922T134643Z
UID:10018611-1810044000-1810047600@www.aiava.org
SUMMARY:Advocacy Advisory Council
DESCRIPTION:The Advocacy Advisory Council is responsible for reviewing\, advising\, and coordinating activity in the broad area of government affairs\, whether on legislative\, regulatory\, code\, or other issues at the state level. \nFor information on this advisory council or any other council or committee\, contact Paul Battaglia\, AIA or email info@aiava.org
URL:https://www.aiava.org/event/advocacy-advisory-council/2027-05-11/
LOCATION:Zoom Virtual Meeting
CATEGORIES:Councils and Committees
ORGANIZER;CN="AIA Virginia":MAILTO:info@aiava.org
END:VEVENT
BEGIN:VEVENT
DTSTART;TZID=America/New_York:20270518T143000
DTEND;TZID=America/New_York:20270518T153000
DTSTAMP:20260420T051320
CREATED:20250922T134952Z
LAST-MODIFIED:20250922T134952Z
UID:10018662-1810650600-1810654200@www.aiava.org
SUMMARY:PAC Board of Trustees
DESCRIPTION:To stimulate persons engaged in the practice of architecture\, their employees and others with similar interests to take a more active and effective role in governmental affairs. To solicit and receive from persons engaged in the practice of architecture\, their employees and others with similar interests contributions into a fund to be used to assist candidates for public office who support the profession of architecture. \nFor information on this Board of Trustees or any other advisory council or committee\, contact Paul Battaglia\, AIA or email info@aiava.org
URL:https://www.aiava.org/event/pac-board-of-trustees/2027-05-18/
LOCATION:Zoom Virtual Meeting
CATEGORIES:Councils and Committees
ORGANIZER;CN="AIA Virginia":MAILTO:info@aiava.org
END:VEVENT
BEGIN:VEVENT
DTSTART;TZID=America/New_York:20270608T140000
DTEND;TZID=America/New_York:20270608T150000
DTSTAMP:20260420T051320
CREATED:20250922T134643Z
LAST-MODIFIED:20250922T134643Z
UID:10018612-1812463200-1812466800@www.aiava.org
SUMMARY:Advocacy Advisory Council
DESCRIPTION:The Advocacy Advisory Council is responsible for reviewing\, advising\, and coordinating activity in the broad area of government affairs\, whether on legislative\, regulatory\, code\, or other issues at the state level. \nFor information on this advisory council or any other council or committee\, contact Paul Battaglia\, AIA or email info@aiava.org
URL:https://www.aiava.org/event/advocacy-advisory-council/2027-06-08/
LOCATION:Zoom Virtual Meeting
CATEGORIES:Councils and Committees
ORGANIZER;CN="AIA Virginia":MAILTO:info@aiava.org
END:VEVENT
BEGIN:VEVENT
DTSTART;TZID=America/New_York:20270713T140000
DTEND;TZID=America/New_York:20270713T150000
DTSTAMP:20260420T051320
CREATED:20250922T134643Z
LAST-MODIFIED:20250922T134643Z
UID:10018613-1815487200-1815490800@www.aiava.org
SUMMARY:Advocacy Advisory Council
DESCRIPTION:The Advocacy Advisory Council is responsible for reviewing\, advising\, and coordinating activity in the broad area of government affairs\, whether on legislative\, regulatory\, code\, or other issues at the state level. \nFor information on this advisory council or any other council or committee\, contact Paul Battaglia\, AIA or email info@aiava.org
URL:https://www.aiava.org/event/advocacy-advisory-council/2027-07-13/
LOCATION:Zoom Virtual Meeting
CATEGORIES:Councils and Committees
ORGANIZER;CN="AIA Virginia":MAILTO:info@aiava.org
END:VEVENT
BEGIN:VEVENT
DTSTART;TZID=America/New_York:20270720T143000
DTEND;TZID=America/New_York:20270720T153000
DTSTAMP:20260420T051320
CREATED:20250922T134952Z
LAST-MODIFIED:20250922T134952Z
UID:10018663-1816093800-1816097400@www.aiava.org
SUMMARY:PAC Board of Trustees
DESCRIPTION:To stimulate persons engaged in the practice of architecture\, their employees and others with similar interests to take a more active and effective role in governmental affairs. To solicit and receive from persons engaged in the practice of architecture\, their employees and others with similar interests contributions into a fund to be used to assist candidates for public office who support the profession of architecture. \nFor information on this Board of Trustees or any other advisory council or committee\, contact Paul Battaglia\, AIA or email info@aiava.org
URL:https://www.aiava.org/event/pac-board-of-trustees/2027-07-20/
LOCATION:Zoom Virtual Meeting
CATEGORIES:Councils and Committees
ORGANIZER;CN="AIA Virginia":MAILTO:info@aiava.org
END:VEVENT
BEGIN:VEVENT
DTSTART;TZID=America/New_York:20270810T140000
DTEND;TZID=America/New_York:20270810T150000
DTSTAMP:20260420T051320
CREATED:20250922T134643Z
LAST-MODIFIED:20250922T134643Z
UID:10018614-1817906400-1817910000@www.aiava.org
SUMMARY:Advocacy Advisory Council
DESCRIPTION:The Advocacy Advisory Council is responsible for reviewing\, advising\, and coordinating activity in the broad area of government affairs\, whether on legislative\, regulatory\, code\, or other issues at the state level. \nFor information on this advisory council or any other council or committee\, contact Paul Battaglia\, AIA or email info@aiava.org
URL:https://www.aiava.org/event/advocacy-advisory-council/2027-08-10/
LOCATION:Zoom Virtual Meeting
CATEGORIES:Councils and Committees
ORGANIZER;CN="AIA Virginia":MAILTO:info@aiava.org
END:VEVENT
BEGIN:VEVENT
DTSTART;TZID=America/New_York:20270914T140000
DTEND;TZID=America/New_York:20270914T150000
DTSTAMP:20260420T051320
CREATED:20250922T134643Z
LAST-MODIFIED:20250922T134643Z
UID:10018615-1820930400-1820934000@www.aiava.org
SUMMARY:Advocacy Advisory Council
DESCRIPTION:The Advocacy Advisory Council is responsible for reviewing\, advising\, and coordinating activity in the broad area of government affairs\, whether on legislative\, regulatory\, code\, or other issues at the state level. \nFor information on this advisory council or any other council or committee\, contact Paul Battaglia\, AIA or email info@aiava.org
URL:https://www.aiava.org/event/advocacy-advisory-council/2027-09-14/
LOCATION:Zoom Virtual Meeting
CATEGORIES:Councils and Committees
ORGANIZER;CN="AIA Virginia":MAILTO:info@aiava.org
END:VEVENT
BEGIN:VEVENT
DTSTART;TZID=America/New_York:20270921T143000
DTEND;TZID=America/New_York:20270921T153000
DTSTAMP:20260420T051320
CREATED:20250922T134952Z
LAST-MODIFIED:20250922T134952Z
UID:10018664-1821537000-1821540600@www.aiava.org
SUMMARY:PAC Board of Trustees
DESCRIPTION:To stimulate persons engaged in the practice of architecture\, their employees and others with similar interests to take a more active and effective role in governmental affairs. To solicit and receive from persons engaged in the practice of architecture\, their employees and others with similar interests contributions into a fund to be used to assist candidates for public office who support the profession of architecture. \nFor information on this Board of Trustees or any other advisory council or committee\, contact Paul Battaglia\, AIA or email info@aiava.org
URL:https://www.aiava.org/event/pac-board-of-trustees/2027-09-21/
LOCATION:Zoom Virtual Meeting
CATEGORIES:Councils and Committees
ORGANIZER;CN="AIA Virginia":MAILTO:info@aiava.org
END:VEVENT
BEGIN:VEVENT
DTSTART;TZID=America/New_York:20271012T140000
DTEND;TZID=America/New_York:20271012T150000
DTSTAMP:20260420T051320
CREATED:20250922T134643Z
LAST-MODIFIED:20250922T134643Z
UID:10018616-1823349600-1823353200@www.aiava.org
SUMMARY:Advocacy Advisory Council
DESCRIPTION:The Advocacy Advisory Council is responsible for reviewing\, advising\, and coordinating activity in the broad area of government affairs\, whether on legislative\, regulatory\, code\, or other issues at the state level. \nFor information on this advisory council or any other council or committee\, contact Paul Battaglia\, AIA or email info@aiava.org
URL:https://www.aiava.org/event/advocacy-advisory-council/2027-10-12/
LOCATION:Zoom Virtual Meeting
CATEGORIES:Councils and Committees
ORGANIZER;CN="AIA Virginia":MAILTO:info@aiava.org
END:VEVENT
BEGIN:VEVENT
DTSTART;TZID=America/New_York:20271109T140000
DTEND;TZID=America/New_York:20271109T150000
DTSTAMP:20260420T051320
CREATED:20250922T134643Z
LAST-MODIFIED:20250922T134643Z
UID:10018617-1825768800-1825772400@www.aiava.org
SUMMARY:Advocacy Advisory Council
DESCRIPTION:The Advocacy Advisory Council is responsible for reviewing\, advising\, and coordinating activity in the broad area of government affairs\, whether on legislative\, regulatory\, code\, or other issues at the state level. \nFor information on this advisory council or any other council or committee\, contact Paul Battaglia\, AIA or email info@aiava.org
URL:https://www.aiava.org/event/advocacy-advisory-council/2027-11-09/
LOCATION:Zoom Virtual Meeting
CATEGORIES:Councils and Committees
ORGANIZER;CN="AIA Virginia":MAILTO:info@aiava.org
END:VEVENT
BEGIN:VEVENT
DTSTART;TZID=America/New_York:20271116T143000
DTEND;TZID=America/New_York:20271116T153000
DTSTAMP:20260420T051320
CREATED:20250922T134952Z
LAST-MODIFIED:20250922T134952Z
UID:10018665-1826375400-1826379000@www.aiava.org
SUMMARY:PAC Board of Trustees
DESCRIPTION:To stimulate persons engaged in the practice of architecture\, their employees and others with similar interests to take a more active and effective role in governmental affairs. To solicit and receive from persons engaged in the practice of architecture\, their employees and others with similar interests contributions into a fund to be used to assist candidates for public office who support the profession of architecture. \nFor information on this Board of Trustees or any other advisory council or committee\, contact Paul Battaglia\, AIA or email info@aiava.org
URL:https://www.aiava.org/event/pac-board-of-trustees/2027-11-16/
LOCATION:Zoom Virtual Meeting
CATEGORIES:Councils and Committees
ORGANIZER;CN="AIA Virginia":MAILTO:info@aiava.org
END:VEVENT
BEGIN:VEVENT
DTSTART;TZID=America/New_York:20271214T140000
DTEND;TZID=America/New_York:20271214T150000
DTSTAMP:20260420T051320
CREATED:20250922T134643Z
LAST-MODIFIED:20250922T134643Z
UID:10018618-1828792800-1828796400@www.aiava.org
SUMMARY:Advocacy Advisory Council
DESCRIPTION:The Advocacy Advisory Council is responsible for reviewing\, advising\, and coordinating activity in the broad area of government affairs\, whether on legislative\, regulatory\, code\, or other issues at the state level. \nFor information on this advisory council or any other council or committee\, contact Paul Battaglia\, AIA or email info@aiava.org
URL:https://www.aiava.org/event/advocacy-advisory-council/2027-12-14/
LOCATION:Zoom Virtual Meeting
CATEGORIES:Councils and Committees
ORGANIZER;CN="AIA Virginia":MAILTO:info@aiava.org
END:VEVENT
BEGIN:VEVENT
DTSTART;TZID=America/New_York:20280111T140000
DTEND;TZID=America/New_York:20280111T150000
DTSTAMP:20260420T051320
CREATED:20250922T134643Z
LAST-MODIFIED:20250922T134643Z
UID:10018619-1831212000-1831215600@www.aiava.org
SUMMARY:Advocacy Advisory Council
DESCRIPTION:The Advocacy Advisory Council is responsible for reviewing\, advising\, and coordinating activity in the broad area of government affairs\, whether on legislative\, regulatory\, code\, or other issues at the state level. \nFor information on this advisory council or any other council or committee\, contact Paul Battaglia\, AIA or email info@aiava.org
URL:https://www.aiava.org/event/advocacy-advisory-council/2028-01-11/
LOCATION:Zoom Virtual Meeting
CATEGORIES:Councils and Committees
ORGANIZER;CN="AIA Virginia":MAILTO:info@aiava.org
END:VEVENT
BEGIN:VEVENT
DTSTART;TZID=America/New_York:20280118T143000
DTEND;TZID=America/New_York:20280118T153000
DTSTAMP:20260420T051320
CREATED:20250922T134952Z
LAST-MODIFIED:20250922T134952Z
UID:10018666-1831818600-1831822200@www.aiava.org
SUMMARY:PAC Board of Trustees
DESCRIPTION:To stimulate persons engaged in the practice of architecture\, their employees and others with similar interests to take a more active and effective role in governmental affairs. To solicit and receive from persons engaged in the practice of architecture\, their employees and others with similar interests contributions into a fund to be used to assist candidates for public office who support the profession of architecture. \nFor information on this Board of Trustees or any other advisory council or committee\, contact Paul Battaglia\, AIA or email info@aiava.org
URL:https://www.aiava.org/event/pac-board-of-trustees/2028-01-18/
LOCATION:Zoom Virtual Meeting
CATEGORIES:Councils and Committees
ORGANIZER;CN="AIA Virginia":MAILTO:info@aiava.org
END:VEVENT
BEGIN:VEVENT
DTSTART;TZID=America/New_York:20280208T140000
DTEND;TZID=America/New_York:20280208T150000
DTSTAMP:20260420T051320
CREATED:20250922T134643Z
LAST-MODIFIED:20250922T134643Z
UID:10018620-1833631200-1833634800@www.aiava.org
SUMMARY:Advocacy Advisory Council
DESCRIPTION:The Advocacy Advisory Council is responsible for reviewing\, advising\, and coordinating activity in the broad area of government affairs\, whether on legislative\, regulatory\, code\, or other issues at the state level. \nFor information on this advisory council or any other council or committee\, contact Paul Battaglia\, AIA or email info@aiava.org
URL:https://www.aiava.org/event/advocacy-advisory-council/2028-02-08/
LOCATION:Zoom Virtual Meeting
CATEGORIES:Councils and Committees
ORGANIZER;CN="AIA Virginia":MAILTO:info@aiava.org
END:VEVENT
BEGIN:VEVENT
DTSTART;TZID=America/New_York:20280314T140000
DTEND;TZID=America/New_York:20280314T150000
DTSTAMP:20260420T051320
CREATED:20250922T134643Z
LAST-MODIFIED:20250922T134643Z
UID:10018621-1836655200-1836658800@www.aiava.org
SUMMARY:Advocacy Advisory Council
DESCRIPTION:The Advocacy Advisory Council is responsible for reviewing\, advising\, and coordinating activity in the broad area of government affairs\, whether on legislative\, regulatory\, code\, or other issues at the state level. \nFor information on this advisory council or any other council or committee\, contact Paul Battaglia\, AIA or email info@aiava.org
URL:https://www.aiava.org/event/advocacy-advisory-council/2028-03-14/
LOCATION:Zoom Virtual Meeting
CATEGORIES:Councils and Committees
ORGANIZER;CN="AIA Virginia":MAILTO:info@aiava.org
END:VEVENT
BEGIN:VEVENT
DTSTART;TZID=America/New_York:20280321T143000
DTEND;TZID=America/New_York:20280321T153000
DTSTAMP:20260420T051320
CREATED:20250922T134952Z
LAST-MODIFIED:20250922T134952Z
UID:10018667-1837261800-1837265400@www.aiava.org
SUMMARY:PAC Board of Trustees
DESCRIPTION:To stimulate persons engaged in the practice of architecture\, their employees and others with similar interests to take a more active and effective role in governmental affairs. To solicit and receive from persons engaged in the practice of architecture\, their employees and others with similar interests contributions into a fund to be used to assist candidates for public office who support the profession of architecture. \nFor information on this Board of Trustees or any other advisory council or committee\, contact Paul Battaglia\, AIA or email info@aiava.org
URL:https://www.aiava.org/event/pac-board-of-trustees/2028-03-21/
LOCATION:Zoom Virtual Meeting
CATEGORIES:Councils and Committees
ORGANIZER;CN="AIA Virginia":MAILTO:info@aiava.org
END:VEVENT
BEGIN:VEVENT
DTSTART;TZID=America/New_York:20280411T140000
DTEND;TZID=America/New_York:20280411T150000
DTSTAMP:20260420T051320
CREATED:20250922T134643Z
LAST-MODIFIED:20250922T134643Z
UID:10018622-1839074400-1839078000@www.aiava.org
SUMMARY:Advocacy Advisory Council
DESCRIPTION:The Advocacy Advisory Council is responsible for reviewing\, advising\, and coordinating activity in the broad area of government affairs\, whether on legislative\, regulatory\, code\, or other issues at the state level. \nFor information on this advisory council or any other council or committee\, contact Paul Battaglia\, AIA or email info@aiava.org
URL:https://www.aiava.org/event/advocacy-advisory-council/2028-04-11/
LOCATION:Zoom Virtual Meeting
CATEGORIES:Councils and Committees
ORGANIZER;CN="AIA Virginia":MAILTO:info@aiava.org
END:VEVENT
BEGIN:VEVENT
DTSTART;TZID=America/New_York:20280509T140000
DTEND;TZID=America/New_York:20280509T150000
DTSTAMP:20260420T051320
CREATED:20250922T134643Z
LAST-MODIFIED:20250922T134643Z
UID:10018623-1841493600-1841497200@www.aiava.org
SUMMARY:Advocacy Advisory Council
DESCRIPTION:The Advocacy Advisory Council is responsible for reviewing\, advising\, and coordinating activity in the broad area of government affairs\, whether on legislative\, regulatory\, code\, or other issues at the state level. \nFor information on this advisory council or any other council or committee\, contact Paul Battaglia\, AIA or email info@aiava.org
URL:https://www.aiava.org/event/advocacy-advisory-council/2028-05-09/
LOCATION:Zoom Virtual Meeting
CATEGORIES:Councils and Committees
ORGANIZER;CN="AIA Virginia":MAILTO:info@aiava.org
END:VEVENT
BEGIN:VEVENT
DTSTART;TZID=America/New_York:20280516T143000
DTEND;TZID=America/New_York:20280516T153000
DTSTAMP:20260420T051320
CREATED:20250922T134952Z
LAST-MODIFIED:20250922T134952Z
UID:10018668-1842100200-1842103800@www.aiava.org
SUMMARY:PAC Board of Trustees
DESCRIPTION:To stimulate persons engaged in the practice of architecture\, their employees and others with similar interests to take a more active and effective role in governmental affairs. To solicit and receive from persons engaged in the practice of architecture\, their employees and others with similar interests contributions into a fund to be used to assist candidates for public office who support the profession of architecture. \nFor information on this Board of Trustees or any other advisory council or committee\, contact Paul Battaglia\, AIA or email info@aiava.org
URL:https://www.aiava.org/event/pac-board-of-trustees/2028-05-16/
LOCATION:Zoom Virtual Meeting
CATEGORIES:Councils and Committees
ORGANIZER;CN="AIA Virginia":MAILTO:info@aiava.org
END:VEVENT
BEGIN:VEVENT
DTSTART;TZID=America/New_York:20280613T140000
DTEND;TZID=America/New_York:20280613T150000
DTSTAMP:20260420T051320
CREATED:20250922T134643Z
LAST-MODIFIED:20250922T134643Z
UID:10018624-1844517600-1844521200@www.aiava.org
SUMMARY:Advocacy Advisory Council
DESCRIPTION:The Advocacy Advisory Council is responsible for reviewing\, advising\, and coordinating activity in the broad area of government affairs\, whether on legislative\, regulatory\, code\, or other issues at the state level. \nFor information on this advisory council or any other council or committee\, contact Paul Battaglia\, AIA or email info@aiava.org
URL:https://www.aiava.org/event/advocacy-advisory-council/2028-06-13/
LOCATION:Zoom Virtual Meeting
CATEGORIES:Councils and Committees
ORGANIZER;CN="AIA Virginia":MAILTO:info@aiava.org
END:VEVENT
BEGIN:VEVENT
DTSTART;TZID=America/New_York:20280711T140000
DTEND;TZID=America/New_York:20280711T150000
DTSTAMP:20260420T051320
CREATED:20250922T134643Z
LAST-MODIFIED:20250922T134643Z
UID:10018625-1846936800-1846940400@www.aiava.org
SUMMARY:Advocacy Advisory Council
DESCRIPTION:The Advocacy Advisory Council is responsible for reviewing\, advising\, and coordinating activity in the broad area of government affairs\, whether on legislative\, regulatory\, code\, or other issues at the state level. \nFor information on this advisory council or any other council or committee\, contact Paul Battaglia\, AIA or email info@aiava.org
URL:https://www.aiava.org/event/advocacy-advisory-council/2028-07-11/
LOCATION:Zoom Virtual Meeting
CATEGORIES:Councils and Committees
ORGANIZER;CN="AIA Virginia":MAILTO:info@aiava.org
END:VEVENT
BEGIN:VEVENT
DTSTART;TZID=America/New_York:20280718T143000
DTEND;TZID=America/New_York:20280718T153000
DTSTAMP:20260420T051320
CREATED:20250922T134952Z
LAST-MODIFIED:20250922T134952Z
UID:10018669-1847543400-1847547000@www.aiava.org
SUMMARY:PAC Board of Trustees
DESCRIPTION:To stimulate persons engaged in the practice of architecture\, their employees and others with similar interests to take a more active and effective role in governmental affairs. To solicit and receive from persons engaged in the practice of architecture\, their employees and others with similar interests contributions into a fund to be used to assist candidates for public office who support the profession of architecture. \nFor information on this Board of Trustees or any other advisory council or committee\, contact Paul Battaglia\, AIA or email info@aiava.org
URL:https://www.aiava.org/event/pac-board-of-trustees/2028-07-18/
LOCATION:Zoom Virtual Meeting
CATEGORIES:Councils and Committees
ORGANIZER;CN="AIA Virginia":MAILTO:info@aiava.org
END:VEVENT
BEGIN:VEVENT
DTSTART;TZID=America/New_York:20280808T140000
DTEND;TZID=America/New_York:20280808T150000
DTSTAMP:20260420T051320
CREATED:20250922T134643Z
LAST-MODIFIED:20250922T134643Z
UID:10018626-1849356000-1849359600@www.aiava.org
SUMMARY:Advocacy Advisory Council
DESCRIPTION:The Advocacy Advisory Council is responsible for reviewing\, advising\, and coordinating activity in the broad area of government affairs\, whether on legislative\, regulatory\, code\, or other issues at the state level. \nFor information on this advisory council or any other council or committee\, contact Paul Battaglia\, AIA or email info@aiava.org
URL:https://www.aiava.org/event/advocacy-advisory-council/2028-08-08/
LOCATION:Zoom Virtual Meeting
CATEGORIES:Councils and Committees
ORGANIZER;CN="AIA Virginia":MAILTO:info@aiava.org
END:VEVENT
END:VCALENDAR