BEGIN:VCALENDAR
VERSION:2.0
PRODID:-//AIA Virginia - ECPv6.15.12.2//NONSGML v1.0//EN
CALSCALE:GREGORIAN
METHOD:PUBLISH
X-WR-CALNAME:AIA Virginia
X-ORIGINAL-URL:https://www.aiava.org
X-WR-CALDESC:Events for AIA Virginia
REFRESH-INTERVAL;VALUE=DURATION:PT1H
X-Robots-Tag:noindex
X-PUBLISHED-TTL:PT1H
BEGIN:VTIMEZONE
TZID:America/New_York
BEGIN:DAYLIGHT
TZOFFSETFROM:-0500
TZOFFSETTO:-0400
TZNAME:EDT
DTSTART:20250309T070000
END:DAYLIGHT
BEGIN:STANDARD
TZOFFSETFROM:-0400
TZOFFSETTO:-0500
TZNAME:EST
DTSTART:20251102T060000
END:STANDARD
BEGIN:DAYLIGHT
TZOFFSETFROM:-0500
TZOFFSETTO:-0400
TZNAME:EDT
DTSTART:20260308T070000
END:DAYLIGHT
BEGIN:STANDARD
TZOFFSETFROM:-0400
TZOFFSETTO:-0500
TZNAME:EST
DTSTART:20261101T060000
END:STANDARD
BEGIN:DAYLIGHT
TZOFFSETFROM:-0500
TZOFFSETTO:-0400
TZNAME:EDT
DTSTART:20270314T070000
END:DAYLIGHT
BEGIN:STANDARD
TZOFFSETFROM:-0400
TZOFFSETTO:-0500
TZNAME:EST
DTSTART:20271107T060000
END:STANDARD
END:VTIMEZONE
BEGIN:VEVENT
DTSTART;VALUE=DATE:20260203
DTEND;VALUE=DATE:20260204
DTSTAMP:20260421T161700
CREATED:20251020T125414Z
LAST-MODIFIED:20260123T165204Z
UID:10018686-1770076800-1770163199@www.aiava.org
SUMMARY:AIA Virginia Hill Day
DESCRIPTION:Participants will observe and participate in the legislative advocacy process by spending the day at the Virginia General Assembly. The itinerary will include meeting with elected officials and lobbyists\, observing proceedings during the House/Senate Floor Session(s)\, and witnessing/participating in House/Senate (Sub)Committee Meetings. \nEarns 6.5 LUs \nProposed Agenda for the Day>> \nREGISTER>> \nLearning Objective 1:\nDefine legislative advocacy and its role in influencing policy. \nLearning Objective 2:\nExplain the importance of advocacy and legislation and its impact on communities. \nLearning Objective 3:\nDifferentiate between direct lobbying\, testimony\, and other advocacy strategies. \nLearning Objective 4:\nUnderstand the Legislative Process: how bills are referred to and reported from committees\, and debated and voted on during a Floor Session. \nLearning Objective 5:\nIdentify the roles of legislators\, committee chairs/members\, lobbyists\, and constituents in the legislative process. \nContact pbattaglia@aiava.org for more information
URL:https://www.aiava.org/event/aia-virginia-hill-day/
LOCATION:Virginia State Capital\, 1000 Bank Street\, RIchmond\, Virginia\, 23219
CATEGORIES:Advocacy
ATTACH;FMTTYPE=image/jpeg:https://www.aiava.org/wp-content/uploads/2016/08/virginiastatecapital.jpg
END:VEVENT
END:VCALENDAR