BEGIN:VCALENDAR
VERSION:2.0
PRODID:-//AIA Virginia - ECPv6.15.12.2//NONSGML v1.0//EN
CALSCALE:GREGORIAN
METHOD:PUBLISH
X-ORIGINAL-URL:https://www.aiava.org
X-WR-CALDESC:Events for AIA Virginia
REFRESH-INTERVAL;VALUE=DURATION:PT1H
X-Robots-Tag:noindex
X-PUBLISHED-TTL:PT1H
BEGIN:VTIMEZONE
TZID:America/New_York
BEGIN:DAYLIGHT
TZOFFSETFROM:-0500
TZOFFSETTO:-0400
TZNAME:EDT
DTSTART:20220313T070000
END:DAYLIGHT
BEGIN:STANDARD
TZOFFSETFROM:-0400
TZOFFSETTO:-0500
TZNAME:EST
DTSTART:20221106T060000
END:STANDARD
BEGIN:DAYLIGHT
TZOFFSETFROM:-0500
TZOFFSETTO:-0400
TZNAME:EDT
DTSTART:20230312T070000
END:DAYLIGHT
BEGIN:STANDARD
TZOFFSETFROM:-0400
TZOFFSETTO:-0500
TZNAME:EST
DTSTART:20231105T060000
END:STANDARD
BEGIN:DAYLIGHT
TZOFFSETFROM:-0500
TZOFFSETTO:-0400
TZNAME:EDT
DTSTART:20240310T070000
END:DAYLIGHT
BEGIN:STANDARD
TZOFFSETFROM:-0400
TZOFFSETTO:-0500
TZNAME:EST
DTSTART:20241103T060000
END:STANDARD
END:VTIMEZONE
BEGIN:VEVENT
DTSTART;TZID=America/New_York:20231130T120000
DTEND;TZID=America/New_York:20231130T130000
DTSTAMP:20260421T071136
CREATED:20231120T161510Z
LAST-MODIFIED:20231120T161641Z
UID:10018496-1701345600-1701349200@www.aiava.org
SUMMARY:Procrastinator’s Series presented by AIA Virginia: Stuff it or Wrap it – Understanding Advanced Wall Designs with Continuous Insulation
DESCRIPTION:Join AIAVA for our Procrastinator series – a series of Lunch and Learn sessions for those of us who couldn’t get around to it before now. These sessions are for you if you happen to be running behind on your learning units for the year or waiting till the last minute\, because we get it. \n  \nWe hope you’ll join us below: \n  \nNovember 30: Stuff it or Wrap it – Understanding Advanced Wall Designs with Continuous Insulation with Rob Klein from Rockwool (1 AIA LU | HSW credit) \nREGISTER \n\nLearning Objectives: \n1. Review and understand recent changes to local building and energy codes that impact building enclosure design strategies and whole building energy efficiency. \n2. Understand the building enclosure design requirements for wall assemblies and how the selection of the right materials is critical to reliable long-term performance. \n3. Learn about several emerging design strategies including various cladding attachment systems that are being used for the construction of highly insulated wall assemblies and how to apply these technologies to projects. \n4. Understand how these new systems are installed in the field with minimal changes to current construction practices
URL:https://www.aiava.org/event/procrastinators-series-presented-by-aia-virginia-stuff-it-or-wrap-it-understanding-advanced-wall-designs-with-continuous-insulation/
LOCATION:Virtual – Online
CATEGORIES:Education,Social,Virtual/Online
ATTACH;FMTTYPE=image/png:https://www.aiava.org/wp-content/uploads/2023/11/3-1.png
END:VEVENT
END:VCALENDAR