BEGIN:VCALENDAR
VERSION:2.0
PRODID:-//AIA Virginia - ECPv6.15.12.2//NONSGML v1.0//EN
CALSCALE:GREGORIAN
METHOD:PUBLISH
X-ORIGINAL-URL:https://www.aiava.org
X-WR-CALDESC:Events for AIA Virginia
REFRESH-INTERVAL;VALUE=DURATION:PT1H
X-Robots-Tag:noindex
X-PUBLISHED-TTL:PT1H
BEGIN:VTIMEZONE
TZID:America/New_York
BEGIN:DAYLIGHT
TZOFFSETFROM:-0500
TZOFFSETTO:-0400
TZNAME:EDT
DTSTART:20220313T070000
END:DAYLIGHT
BEGIN:STANDARD
TZOFFSETFROM:-0400
TZOFFSETTO:-0500
TZNAME:EST
DTSTART:20221106T060000
END:STANDARD
BEGIN:DAYLIGHT
TZOFFSETFROM:-0500
TZOFFSETTO:-0400
TZNAME:EDT
DTSTART:20230312T070000
END:DAYLIGHT
BEGIN:STANDARD
TZOFFSETFROM:-0400
TZOFFSETTO:-0500
TZNAME:EST
DTSTART:20231105T060000
END:STANDARD
BEGIN:DAYLIGHT
TZOFFSETFROM:-0500
TZOFFSETTO:-0400
TZNAME:EDT
DTSTART:20240310T070000
END:DAYLIGHT
BEGIN:STANDARD
TZOFFSETFROM:-0400
TZOFFSETTO:-0500
TZNAME:EST
DTSTART:20241103T060000
END:STANDARD
END:VTIMEZONE
BEGIN:VEVENT
DTSTART;VALUE=DATE:20231101
DTEND;VALUE=DATE:20231104
DTSTAMP:20260421T043021
CREATED:20230113T150004Z
LAST-MODIFIED:20231026T124226Z
UID:10018219-1698796800-1699055999@www.aiava.org
SUMMARY:Architecture Exchange East 2023
DESCRIPTION:AIA Virginia Annual Convention \nMark your calendar for Nov. 1-3\, 2023! \nReconnect with your industry peers and forge new relationships at Architecture Exchange East. Get inspired by new work\, emerging research\, and the latest technologies. \nRegistration is available onsite Nov. 1-3\, 2023
URL:https://www.aiava.org/event/architecture-exchange-east-2023/
LOCATION:Greater Richmond Convention Center\, 403 North Third Street\, Richmond\, VA\, 23219\, United States
CATEGORIES:Education
END:VEVENT
BEGIN:VEVENT
DTSTART;TZID=America/New_York:20231102T183000
DTEND;TZID=America/New_York:20231102T203000
DTSTAMP:20260421T043021
CREATED:20230914T151100Z
LAST-MODIFIED:20231012T151539Z
UID:10018232-1698949800-1698957000@www.aiava.org
SUMMARY:Visions for Architecture
DESCRIPTION:Visions for Architecture\, created in 1998\, is AIA Virginia’s annual Honors and Awards gala. \nVisions celebrates the achievements of those whose work makes especially strong contributions to society and celebrates the recipients of AIA Virginia’s Honors Awards and the Awards for Excellence in Architecture. \nVisions for Architecture 2023 will be held on Thursday\, November 2nd at the Hippodrome in Richmond starting at 6:30 p.m. \nVisions is now a more casual cocktail party with passed food instead of a seated dinner. Tickets can be purchased with or without your Architecture Exchange Registration here>> and are $125 each. \nTo support this event by becoming a sponsor\, contact Jody Cranford at jcranford@aiava.org (800) 818-0289. \n\nVisions for Architecture is sponsored by:\n\n\n\nBamforth Engineers + Surveyors\nK.G. Tax and Accounting Solutions\nKjellstrom + Lee\nThe Three Aspens
URL:https://www.aiava.org/event/visions-for-architecture-4/
LOCATION:Hippodrome\, 526 N 2nd St\, Richmond\, Virginia\, 23219\, United States
CATEGORIES:Awards
ORGANIZER;CN="AIA Virginia":MAILTO:info@aiava.org
END:VEVENT
END:VCALENDAR